BEGIN:VCALENDAR
VERSION:2.0
PRODID:-//ChamberMaster//Event Calendar 2.0//EN
METHOD:PUBLISH
X-PUBLISHED-TTL:P3D
REFRESH-INTERVAL:P3D
CALSCALE:GREGORIAN
BEGIN:VEVENT
DTSTART:20180315T000000Z
DTEND:20180315T030000Z
X-MICROSOFT-CDO-ALLDAYEVENT:FALSE
SUMMARY:You’re Invited 91 Freeway Project Study Open House
DESCRIPTION:Join us for a Public Information Meeting\n\n(Open House Format) on March 14!\n\n\n\nOCTA and Caltrans invite you to come learn about the State Route 91 (SR-91) Improvement Project between State Route 57 and State Route 55. The proposed project is currently in the project approval/environmental document (PA/ED) phase\, commonly known as the environmental study phase. During this process\, Caltrans and OCTA will study improvement concepts to help increase capacity\, improve operations and/or relieve congestion within the project limits.\n\n\n\nThe public meeting (open house format) is an opportunity to learn more about the project and the current environmental study process. There will be information stations with staff members and project experts present to address questions you may have.\n\n\n\nWe look forward to seeing you!
X-ALT-DESC;FMTTYPE=text/html:Join us for a Public Information Meeting<br />\n(Open House Format) on March 14!<br />\n<br />\nOCTA and Caltrans invite you to come learn about the State Route 91 (SR-91) Improvement Project between State Route 57 and State Route 55. The proposed project is currently in the project approval/environmental document (PA/ED) phase\, commonly known as the environmental study phase. During this process\, Caltrans and OCTA will study improvement concepts to help increase capacity\, improve operations and/or relieve congestion within the project limits.<br />\n<br />\nThe public meeting (open house format) is an opportunity to learn more about the project and the current environmental study process. There will be information stations with staff members and project experts present to address questions you may have.<br />\n<br />\nWe look forward to seeing you!<br />\n<br />\n&nbsp\;
LOCATION:Rio Vista Elementary School 310 North Rio Vista Street Anaheim\, CA 92806
UID:e.887.18196
SEQUENCE:3
DTSTAMP:20260422T002545Z
URL:https://business.nocchamber.com/events/details/you-re-invited-91-freeway-project-study-open-house-18196
END:VEVENT

END:VCALENDAR
