BEGIN:VCALENDAR
VERSION:2.0
PRODID:-//ChamberMaster//Event Calendar 2.0//EN
METHOD:PUBLISH
X-PUBLISHED-TTL:P3D
REFRESH-INTERVAL:P3D
CALSCALE:GREGORIAN
BEGIN:VEVENT
DTSTART:20190527T170000Z
DTEND:20190527T220000Z
X-MICROSOFT-CDO-ALLDAYEVENT:FALSE
SUMMARY:Yorba Linda Memorial Day at the Nixon Library
DESCRIPTION:Commemorate Memorial Day this year for free at The Nixon Presidential Library & Museum.\nHonor the American military this memorial day by paying special tribute to POWs and their families.\n\n10:00 a.m. - Wreath Laying at the Memorials of President and Mrs. Nixon\n\n11:00 a.m. - Panel with POW Wives from the Vietnam War\n\nPanelists include POW wives Jenny Connell Robertson and Patsy Crayton\, as well as historian Heath Hardage Lee\, author of The League of Wives\, the first in-depth look at the political power of POW spouses\, who ignored social protocol to help free their husbands.\n\nModerated by Audrey Coleman\, curator of The League of Wives\, a traveling exhibition sponsored by the Robert J. Dole Institute.\n\n2:00 p.m. - Placentia Symphonic Band Concert \n\nThe renowned Placentia Symphonic Band will perform their classic setlist of All-American favorites in the East Room.\n\nPaid admission is required to tour the museum galleries and Apollo 11 special exhibit.
X-ALT-DESC;FMTTYPE=text/html:Commemorate Memorial Day this year for free at The Nixon Presidential Library &amp\; Museum.\n<p>Honor the American military this memorial day by paying special tribute to POWs and their families.</p>\n\n<p>10:00 a.m. - Wreath Laying at the Memorials of President and Mrs. Nixon</p>\n\n<p>11:00 a.m. -&nbsp\;Panel with POW Wives from the Vietnam War</p>\n\n<p>Panelists include POW wives Jenny Connell Robertson and Patsy Crayton\, as well as historian Heath Hardage Lee\, author of&nbsp\;The League of Wives\, the first in-depth look at the political power of POW spouses\, who ignored social protocol to help&nbsp\;free their husbands.</p>\n\n<p>Moderated by Audrey Coleman\, curator of&nbsp\;The League of Wives\, a traveling exhibition sponsored by the Robert J. Dole Institute.</p>\n\n<p>2:00 p.m. - Placentia Symphonic Band Concert&nbsp\;</p>\n\n<p>The renowned Placentia Symphonic Band will perform their classic setlist of All-American favorites in the East Room.</p>\n\n<p>Paid admission is required to tour the museum galleries and Apollo 11 special exhibit.</p>\n
LOCATION:The Nixon Presidential Library & Museum 18001 Yorba Linda Blvd. Yorba Linda\, CA 92886
UID:e.887.23327
SEQUENCE:3
DTSTAMP:20260422T054326Z
URL:https://business.nocchamber.com/events/details/yorba-linda-memorial-day-at-the-nixon-library-23327
END:VEVENT

END:VCALENDAR
