BEGIN:VCALENDAR
VERSION:2.0
PRODID:-//ChamberMaster//Event Calendar 2.0//EN
METHOD:PUBLISH
X-PUBLISHED-TTL:P3D
REFRESH-INTERVAL:P3D
CALSCALE:GREGORIAN
BEGIN:VEVENT
DTSTART:20180401T040000Z
DTEND:20180401T053000Z
X-MICROSOFT-CDO-ALLDAYEVENT:FALSE
SUMMARY:YOGA in the Garden
DESCRIPTION:Start your weekend with a moving meditation\n\nThroughout the Arboretum's vibrant landscapes.\n\nImprove connection of the body\, mind\, and breath by immersing\n\nYourself in the nurturing sounds\, sunshine and fresh air\n\nNature has to offer.
X-ALT-DESC;FMTTYPE=text/html:Start your weekend with a moving meditation<br />\nThroughout the Arboretum&rsquo\;s vibrant landscapes.<br />\nImprove connection of the body\, mind\, and breath by immersing<br />\nYourself in the nurturing sounds\, sunshine and fresh air<br />\nNature has to offer.
LOCATION:Fullerton Arboretum 1900 Associated Road (at Yorba Linda Blvd.) Fullerton\, Ca 92832
UID:e.887.17534
SEQUENCE:3
DTSTAMP:20260421T212717Z
URL:https://business.nocchamber.com/events/details/yoga-in-the-garden-17534
END:VEVENT

END:VCALENDAR
