BEGIN:VCALENDAR
VERSION:2.0
PRODID:-//ChamberMaster//Event Calendar 2.0//EN
METHOD:PUBLISH
X-PUBLISHED-TTL:P3D
REFRESH-INTERVAL:P3D
CALSCALE:GREGORIAN
BEGIN:VEVENT
DTSTART:20170504T013000Z
DTEND:20170504T030000Z
X-MICROSOFT-CDO-ALLDAYEVENT:FALSE
SUMMARY:Yamaha Corporation of America ‘Customer Experience Group’
DESCRIPTION:Join us as the Yamaha Corporation of America 'Customer Experience Group' shares the inside story of what it is like being a small in-house agency tasked with representing the world's largest musical instrument and audio brand. See how they have developed a data-driven approach to campaign ideation and execution\, evolved the agency structure to align with their internal client base\, defined and implemented a corporate style standard\, and basically became rockstars along the way.
X-ALT-DESC;FMTTYPE=text/html:Join us as the Yamaha Corporation of America &lsquo\;Customer Experience Group&rsquo\; shares the inside story of what it is like being a small in-house agency tasked with representing the world&rsquo\;s largest musical instrument and audio brand. See how they have developed a data-driven approach to campaign ideation and execution\, evolved the agency structure to align with their internal client base\, defined and implemented a corporate style standard\, and basically became rockstars along the way.
LOCATION:Yamaha Corporation of America\, 6600 Orangethorpe Ave\, Buena Park\, CA 90620
UID:e.887.16048
SEQUENCE:3
DTSTAMP:20260421T045648Z
URL:https://business.nocchamber.com/events/details/yamaha-corporation-of-america-customer-experience-group-16048
END:VEVENT

END:VCALENDAR
