BEGIN:VCALENDAR
VERSION:2.0
PRODID:-//ChamberMaster//Event Calendar 2.0//EN
METHOD:PUBLISH
X-PUBLISHED-TTL:P3D
REFRESH-INTERVAL:P3D
CALSCALE:GREGORIAN
BEGIN:VEVENT
DTSTART:20191025T020000Z
DTEND:20191025T040000Z
X-MICROSOFT-CDO-ALLDAYEVENT:FALSE
SUMMARY:WTLC 3/4 Time Dueling Pianos
DESCRIPTION:Join WTLC as they sing and call for an end to domestic violence within the community. You can become a sponsor or purchase tickets for the event.
X-ALT-DESC;FMTTYPE=text/html:Join WTLC as they sing and call for an end to domestic violence within the community. You can become a sponsor or purchase tickets for the event.
LOCATION:RSVP Event Space 114 E. Amerige Ave. Fullerton\, CA 92832
UID:e.887.23764
SEQUENCE:3
DTSTAMP:20260421T225919Z
URL:https://business.nocchamber.com/events/details/wtlc-3-4-time-dueling-pianos-23764
END:VEVENT

END:VCALENDAR
