BEGIN:VCALENDAR
VERSION:2.0
PRODID:-//ChamberMaster//Event Calendar 2.0//EN
METHOD:PUBLISH
X-PUBLISHED-TTL:P3D
REFRESH-INTERVAL:P3D
CALSCALE:GREGORIAN
BEGIN:VEVENT
DTSTART:20181005T030000Z
DTEND:20181005T050000Z
X-MICROSOFT-CDO-ALLDAYEVENT:FALSE
SUMMARY:WTLC - 3/4 Time Dueling Pianos
DESCRIPTION:The Women's Transitional Living Center (WTLC) will be hosting a musical event for the audience to enjoy in support of survivors of domestic violence and human trafficking.
X-ALT-DESC;FMTTYPE=text/html:The Women&rsquo\;s Transitional Living Center (WTLC) will be hosting a musical event for the audience to enjoy in support of survivors of domestic violence and human trafficking.<br />\n&nbsp\;
LOCATION:114 E. Amerige Ave. Fullerton\, CA 92832
UID:e.887.22611
SEQUENCE:3
DTSTAMP:20260422T140639Z
URL:https://business.nocchamber.com/events/details/wtlc-3-4-time-dueling-pianos-22611
END:VEVENT

END:VCALENDAR
