BEGIN:VCALENDAR
VERSION:2.0
PRODID:-//ChamberMaster//Event Calendar 2.0//EN
METHOD:PUBLISH
X-PUBLISHED-TTL:P3D
REFRESH-INTERVAL:P3D
CALSCALE:GREGORIAN
BEGIN:VEVENT
DTSTART:20170617T023000Z
DTEND:20170617T040000Z
X-MICROSOFT-CDO-ALLDAYEVENT:FALSE
SUMMARY:Worship Together
DESCRIPTION:Spend time with your family and friends while enjoying live music from gospel singer Hyung Jin Shim. Worship Together is for all who desire to worship beyond church walls with all generations for renewal and revival.
X-ALT-DESC;FMTTYPE=text/html:Spend time with your family and friends while enjoying live music from gospel singer Hyung&nbsp\;Jin Shim. Worship Together is for all who desire to worship beyond church walls with all generations for renewal and revival.&nbsp\;
LOCATION:The Source 6940 Beach Blvd Buena Park\, CA 90621 Event is located on the 3rd Floor Terrace
UID:e.887.16188
SEQUENCE:3
DTSTAMP:20260421T034153Z
URL:https://business.nocchamber.com/events/details/worship-together-16188
END:VEVENT

END:VCALENDAR
