BEGIN:VCALENDAR
VERSION:2.0
PRODID:-//ChamberMaster//Event Calendar 2.0//EN
METHOD:PUBLISH
X-PUBLISHED-TTL:P3D
REFRESH-INTERVAL:P3D
CALSCALE:GREGORIAN
BEGIN:VEVENT
DTSTART:20170617T210000Z
DTEND:20170618T030000Z
X-MICROSOFT-CDO-ALLDAYEVENT:FALSE
SUMMARY:World of Dance at The Source
DESCRIPTION:Come experience the best dancers from the area at World of Dance Live. Bring your energy and join them on Saturday for exciting Break Dance Battles.
X-ALT-DESC;FMTTYPE=text/html:Come experience the best dancers from the area at World of Dance Live. Bring your energy and join them on Saturday for exciting Break Dance Battles.
LOCATION:The Source OC 6940 Beach Boulevard Buena Park\, CA 90621
UID:e.887.16189
SEQUENCE:3
DTSTAMP:20260421T014639Z
URL:https://business.nocchamber.com/events/details/world-of-dance-at-the-source-16189
END:VEVENT

END:VCALENDAR
