BEGIN:VCALENDAR
VERSION:2.0
PRODID:-//ChamberMaster//Event Calendar 2.0//EN
METHOD:PUBLISH
X-PUBLISHED-TTL:P3D
REFRESH-INTERVAL:P3D
CALSCALE:GREGORIAN
BEGIN:VEVENT
DTSTART:20191005T170000Z
DTEND:20191005T183000Z
X-MICROSOFT-CDO-ALLDAYEVENT:FALSE
SUMMARY:Women's Self-Defense Hosted by Assemblywoman Sharon Quirk-Silva
DESCRIPTION:Join Assemblywoman Sharon Quirk-Silva for two free Women's Self-Defense Workshops on Saturday\, October 5. Come learn how to protect yourself and discuss legislation on women's issues and safety.
X-ALT-DESC;FMTTYPE=text/html:Join Assemblywoman Sharon Quirk-Silva for two free Women&#39\;s Self-Defense Workshops on Saturday\, October 5. Come learn how to protect yourself and discuss legislation on women&#39\;s issues and safety.
LOCATION:First workshop: Chapman Park 2515 San Carlos Dr. Fullerton\, CA 92831 Second workshop: Richman Neighborhood Center 320 West Elm Ave. Fullerton\, CA\, 92832
UID:e.887.23727
SEQUENCE:3
DTSTAMP:20260421T231223Z
URL:https://business.nocchamber.com/events/details/women-s-self-defense-hosted-by-assemblywoman-sharon-quirk-silva-23727
END:VEVENT

END:VCALENDAR
