BEGIN:VCALENDAR
VERSION:2.0
PRODID:-//ChamberMaster//Event Calendar 2.0//EN
METHOD:PUBLISH
X-PUBLISHED-TTL:P3D
REFRESH-INTERVAL:P3D
CALSCALE:GREGORIAN
BEGIN:VEVENT
DTSTART:20200622T210000Z
DTEND:20200622T220000Z
X-MICROSOFT-CDO-ALLDAYEVENT:FALSE
SUMMARY:Women's Business Center - Resource Round Table
DESCRIPTION:Find great new resources in just one call. Join entrepreneurs in the Inland Empire to get insider information on resources available to you. Bring a resource that can be helpful to other small business owners to the table and leave with information that can help you along your own personal entrepreneurial journey.\n\n\n\nClick here for more information.
X-ALT-DESC;FMTTYPE=text/html:Find great new resources in just one call. Join entrepreneurs in the Inland Empire to get insider information on resources available to you. Bring a resource that can be helpful to other small business owners to the table and leave with information that can help you along your own personal entrepreneurial journey.<br />\n<br />\n<a href="https://www.iewbc.org/index.php/workshops?utm_medium=email&amp\;utm_source=govdelivery" target="_blank">Click here for more information.</a>
LOCATION:Online
UID:e.887.24419
SEQUENCE:3
DTSTAMP:20260421T132314Z
URL:https://business.nocchamber.com/events/details/women-s-business-center-resource-round-table-24419
END:VEVENT

END:VCALENDAR
