BEGIN:VCALENDAR
VERSION:2.0
PRODID:-//ChamberMaster//Event Calendar 2.0//EN
METHOD:PUBLISH
X-PUBLISHED-TTL:P3D
REFRESH-INTERVAL:P3D
CALSCALE:GREGORIAN
BEGIN:VEVENT
DTSTART:20200623T010000Z
DTEND:20200623T020000Z
X-MICROSOFT-CDO-ALLDAYEVENT:FALSE
SUMMARY:Women's Business Center - Introduction to QuickBooks Webinar
DESCRIPTION:Learn to get control of your accounting with QuickBooks. This workshop will take you step-by-step through the process of setting up your bookkeeping system using the QuickBooks software. See how easy it is to track and manage expenses and payments in your business with QuickBooks.\n\n \n\nRegister by June 22 at 5:30 p.m.\n\n\n\nClick here for more information.
X-ALT-DESC;FMTTYPE=text/html:<p>Learn to get control of your accounting with QuickBooks. This workshop will take you step-by-step through the process of setting up your bookkeeping system using the QuickBooks software. See how easy it is to track and manage expenses and payments in your business with QuickBooks.<br />\n&nbsp\;</p>\n\n<p>Register by June 22 at 5:30 p.m.<br />\n<br />\n<a href="https://www.iewbc.org/index.php/workshops?utm_medium=email&amp\;utm_source=govdelivery" target="_blank">Click here for more information.</a></p>\n
LOCATION:Online
UID:e.887.24418
SEQUENCE:3
DTSTAMP:20260421T132635Z
URL:https://business.nocchamber.com/events/details/women-s-business-center-introduction-to-quickbooks-webinar-24418
END:VEVENT

END:VCALENDAR
