BEGIN:VCALENDAR
VERSION:2.0
PRODID:-//ChamberMaster//Event Calendar 2.0//EN
METHOD:PUBLISH
X-PUBLISHED-TTL:P3D
REFRESH-INTERVAL:P3D
CALSCALE:GREGORIAN
BEGIN:VEVENT
DTSTART:20200624T010000Z
DTEND:20200624T020000Z
X-MICROSOFT-CDO-ALLDAYEVENT:FALSE
SUMMARY:Women's Business Center - How To Get A Contractor's Licence Webinar
DESCRIPTION:Find out why the state of California requires a contractor's license and not a business license. Learn the process of acquiring a license in as little as 4-6 months. In this workshop\, you will find out how to prepare and apply for the state exam\, your options on how to file your business\, and the requirements such as ITIN\, Social Security Number\, and years experience. We look forward to answering all of your questions to better understand the construction industry.\n\n\n\nRegister by June 23 at 5:30 p.m.
X-ALT-DESC;FMTTYPE=text/html:Find out why the state of California requires a contractor&#39\;s license and not a business license. Learn the process of acquiring a license in as little as 4-6 months. In this workshop\, you will find out how to prepare and apply for the state exam\, your options on how to file your business\, and the requirements such as ITIN\, Social Security Number\, and years experience. We look forward to answering all of your questions to better understand the construction industry.<br />\n<br />\nRegister by June 23 at 5:30 p.m.
LOCATION:Online
UID:e.887.24423
SEQUENCE:3
DTSTAMP:20260421T144412Z
URL:https://business.nocchamber.com/events/details/women-s-business-center-how-to-get-a-contractor-s-licence-webinar-24423
END:VEVENT

END:VCALENDAR
