BEGIN:VCALENDAR
VERSION:2.0
PRODID:-//ChamberMaster//Event Calendar 2.0//EN
METHOD:PUBLISH
X-PUBLISHED-TTL:P3D
REFRESH-INTERVAL:P3D
CALSCALE:GREGORIAN
BEGIN:VEVENT
DTSTART:20170428T160000Z
DTEND:20170429T000000Z
X-MICROSOFT-CDO-ALLDAYEVENT:FALSE
SUMMARY:Women in Politics - Symposium
DESCRIPTION:Join some of California's most influential and passionate elected and appointed officials for a frank discussion on the inequities facing women in politics\, as well as hear their personal stories of overcoming challenges.\n\n\n\nConfirmed speakers include:\n\n\n\nSharon Quirk-Silva - California State Assemblywoman\n\n \n\nBetty Yee - California State Controller\n\n\n\nKris Murray - Councilmember\, City of Anaheim\n\n\n\nMona Pasquil - Appointment Secretary Office of the Governor\n\n\n\nLisa Barlett - Supervisor\, County of Orange
X-ALT-DESC;FMTTYPE=text/html:<font face="arial\, sans-serif"><span style="font-size: 13.3333px\;">Join some of California&#39\;s&nbsp\;most influential and passionate elected and appointed officials for a frank discussion on the inequities facing women in politics\, as well as hear their personal stories of overcoming challenges.<br />\n<br />\nConfirmed speakers include:<br />\n<br />\nSharon Quirk-Silva - California&nbsp\;State Assemblywoman<br />\n&#8203\;<br />\nBetty Yee - California State Controller<br />\n<br />\nKris Murray - Councilmember\, City of Anaheim<br />\n<br />\nMona Pasquil&nbsp\;- Appointment Secretary Office of the Governor<br />\n<br />\nLisa Barlett - Supervisor\, County of Orange</span></font><br />\n&nbsp\;
LOCATION:Fullerton Community Center 340 W Commonwealth Ave Fullerton\, CA 92832
UID:e.887.15806
SEQUENCE:3
DTSTAMP:20260421T131700Z
URL:https://business.nocchamber.com/events/details/women-in-politics-symposium-15806
END:VEVENT

END:VCALENDAR
