BEGIN:VCALENDAR
VERSION:2.0
PRODID:-//ChamberMaster//Event Calendar 2.0//EN
METHOD:PUBLISH
X-PUBLISHED-TTL:P3D
REFRESH-INTERVAL:P3D
CALSCALE:GREGORIAN
BEGIN:VEVENT
DTSTART:20180803T143000Z
DTEND:20180803T173000Z
X-MICROSOFT-CDO-ALLDAYEVENT:FALSE
SUMMARY:Women in Business Breakfast Series
DESCRIPTION:Deborah Kagan is a speaker\, best-selling author and mentor to women in over 19 countries. She is the founder and creator of the Rock Your Mojo programs and events. As a philanthropist\, Deborah is the Executive Producer of VDAY Santa Monica and on the Advisory Board of Peace Over Violence.\n\n \n\nThe presentation will cover on:\n\n	Access the four pillars to attract powerful\, profitable opportunities and supportive people\n	3 red flags of daily self-sabotage indicators\n	How to build mojo muscles for consistent creativity\n	Breakthroughs in 2018 filled with enthusiasm and a clear path to achieve goals
X-ALT-DESC;FMTTYPE=text/html:<strong>Deborah Kagan</strong> is a speaker\, best-selling author and mentor to women in&nbsp\;over 19 countries. She is the founder and creator of the Rock Your Mojo&nbsp\;programs and events. As a philanthropist\, Deborah is the Executive Producer&nbsp\;of VDAY Santa Monica and on the Advisory Board of Peace Over Violence.<br />\n&nbsp\;<br />\nThe presentation will cover on:\n<ul>\n	<li>Access the four pillars to attract powerful\, profitable opportunities and supportive people</li>\n	<li>3&nbsp\;red flags of daily self-sabotage indicators</li>\n	<li>How to build&nbsp\;mojo muscles for consistent creativity</li>\n	<li>Breakthroughs in 2018 filled with enthusiasm and a clear path to achieve goals</li>\n</ul>\n
LOCATION:The Center Club 650 Town Center Drive Costa Mesa\, CA 92626
UID:e.887.22550
SEQUENCE:3
DTSTAMP:20260422T091348Z
URL:https://business.nocchamber.com/events/details/women-in-business-breakfast-series-22550
END:VEVENT

END:VCALENDAR
