BEGIN:VCALENDAR
VERSION:2.0
PRODID:-//ChamberMaster//Event Calendar 2.0//EN
METHOD:PUBLISH
X-PUBLISHED-TTL:P3D
REFRESH-INTERVAL:P3D
CALSCALE:GREGORIAN
BEGIN:VEVENT
DTSTART:20170317T153000Z
DTEND:20170317T183000Z
X-MICROSOFT-CDO-ALLDAYEVENT:FALSE
SUMMARY:Women Entrepreneurs Forum
DESCRIPTION:Women Entrepreneur Forum with keynote address from Ellen Callen. Interactive panel discussion with Lake Forest business owners and executives. Breakfast provided. Please RSVP to economicdevelopment@lakeforestca.gov
X-ALT-DESC;FMTTYPE=text/html:Women Entrepreneur Forum with keynote address from Ellen Callen. Interactive panel discussion with Lake Forest business owners and executives. Breakfast provided. Please RSVP to economicdevelopment@lakeforestca.gov<br />\n<br />\n&nbsp\;
LOCATION:Lake Forest City Hall 25550 Commercentre Drive\, Suite 100 Lake Forest\, CA 92630
UID:e.887.15995
SEQUENCE:3
DTSTAMP:20260421T212435Z
URL:https://business.nocchamber.com/events/details/women-entrepreneurs-forum-15995
END:VEVENT

END:VCALENDAR
