BEGIN:VCALENDAR
VERSION:2.0
PRODID:-//ChamberMaster//Event Calendar 2.0//EN
METHOD:PUBLISH
X-PUBLISHED-TTL:P3D
REFRESH-INTERVAL:P3D
CALSCALE:GREGORIAN
BEGIN:VEVENT
DTSTART:20191017T143000Z
DTEND:20191017T223000Z
X-MICROSOFT-CDO-ALLDAYEVENT:FALSE
SUMMARY:Women Business Owners Conference
DESCRIPTION:Join SCORE in their 7th annual Women Business Owners Conference. There will be speakers\, exhibitors\, panels\, opportunities to network\, and workshops. There will be a focus on the small business experience and what is needed for the business woman to excel.
X-ALT-DESC;FMTTYPE=text/html:Join SCORE in their 7th annual Women Business Owners Conference. There will be speakers\, exhibitors\, panels\, opportunities to network\, and workshops. There will be a focus on the small business experience and what is needed for the business woman to excel.&nbsp\;
LOCATION:Great Wolf Lodge 12681 Harbor Blvd. Garden Grove\, CA 92840
UID:e.887.23749
SEQUENCE:3
DTSTAMP:20260421T231019Z
URL:https://business.nocchamber.com/events/details/women-business-owners-conference-23749
END:VEVENT

END:VCALENDAR
