BEGIN:VCALENDAR
VERSION:2.0
PRODID:-//ChamberMaster//Event Calendar 2.0//EN
METHOD:PUBLISH
X-PUBLISHED-TTL:P3D
REFRESH-INTERVAL:P3D
CALSCALE:GREGORIAN
BEGIN:VEVENT
DTSTART:20190426T180000Z
DTEND:20190426T200000Z
X-MICROSOFT-CDO-ALLDAYEVENT:FALSE
SUMMARY:Woman's Club of Fullerton - Ocean Subaru "Love Event"
DESCRIPTION:On Friday\, April 26th\, Ocean Subaru will have catered lunch for everyone and will be presenting their "Share the Love" charity checks to (among others) The Woman's Club of Fullerton.\n\n11:00 a.m. Free Floral Design Class\n\n11:30 a.m. Free Catered Lunch\n\n12:15 p.m. Charity Check Presentations
X-ALT-DESC;FMTTYPE=text/html:<p>On Friday\, April 26th\, Ocean Subaru will have catered lunch for everyone and will be presenting their &quot\;Share the Love&quot\; charity checks to (among others) The Woman&#39\;s Club of Fullerton.</p>\n\n<p>11:00 a.m. Free Floral Design Class</p>\n\n<p>11:30 a.m.&nbsp\;Free Catered Lunch</p>\n\n<p>12:15 p.m. Charity Check Presentations</p>\n
LOCATION:Ocean Subaru 1100 South Euclid Street Fullerton\, CA 92832
UID:e.887.23109
SEQUENCE:3
DTSTAMP:20260422T065826Z
URL:https://business.nocchamber.com/events/details/woman-s-club-of-fullerton-ocean-subaru-love-event-23109
END:VEVENT

END:VCALENDAR
