BEGIN:VCALENDAR
VERSION:2.0
PRODID:-//ChamberMaster//Event Calendar 2.0//EN
METHOD:PUBLISH
X-PUBLISHED-TTL:P3D
REFRESH-INTERVAL:P3D
CALSCALE:GREGORIAN
BEGIN:VEVENT
DTSTART:20191210T020000Z
DTEND:20191210T043000Z
X-MICROSOFT-CDO-ALLDAYEVENT:FALSE
SUMMARY:Woman's Club of Fullerton General Monthly Meeting
DESCRIPTION:The Woman's Club of Fullerton is dedicated to uniting women of all ages for community service\, supporting charitable organizations\, fostering friendship and empowering women through learning about the community around us. \n\n\n\nVisit their website\, www.WCOF.club
X-ALT-DESC;FMTTYPE=text/html:<p>The Woman&rsquo\;s Club of Fullerton is dedicated to uniting women of all ages for community service\, supporting charitable organizations\, fostering friendship and empowering women through learning about the community around us.&nbsp\;<br />\n<br />\nVisit their website\, <a href="http://www.WCOF.club">www.WCOF.club</a></p>\n<br />\n&nbsp\;
LOCATION:Christian Life Center 404 W. Wilshire Ave. Fullerton\, CA 92832 Free parking
UID:e.887.23471
SEQUENCE:3
DTSTAMP:20260421T204026Z
URL:https://business.nocchamber.com/events/details/woman-s-club-of-fullerton-general-monthly-meeting-12-09-2019-23471
END:VEVENT

END:VCALENDAR
