BEGIN:VCALENDAR
VERSION:2.0
PRODID:-//ChamberMaster//Event Calendar 2.0//EN
METHOD:PUBLISH
X-PUBLISHED-TTL:P3D
REFRESH-INTERVAL:P3D
CALSCALE:GREGORIAN
BEGIN:VEVENT
DTSTART:20190511T173000Z
DTEND:20190511T210000Z
X-MICROSOFT-CDO-ALLDAYEVENT:FALSE
SUMMARY:Woman's Club of Fullerton - Bunco Boogie
DESCRIPTION:On Saturday\, May 11 from 10:30 a.m. to 2 p.m.\, at the Christian Life Center in Fullerton\, Women's Club of Fullerton (WCOF) is hosting Bunco Boogie. Tickets are on sale now for $30 per person\, or $50 for two people. Proceeds benefit Joya Scholars\, WCOF's Charity of the Year.\n\nIn addition to a seat at the Bunco table for a chance to win prizes\, admission to the event will get you a superfly brunch\, including dessert and non-alcoholic beverages. Vegetarian options are available upon request\, as well as champagne mimosas for purchase.\n\nGuests can also participate in the Pick-a-Prize drawing\, and bid on silent auction items. Sponsorships are available from $100 to $1\,000. Tickets are available at wcof.club/bunco-boogie\, by email at WaysAndMeans@wcof.club\, by phone at 714-925-3430\, by check made payable to WCOF and mailed to PO Box 6054 Fullerton\, CA 92834\, or at the door on the day of the event.\n\n\n\nThe Women's Club of Fullerton is a 501c3 membership organization affiliated with the Federation of Women's Clubs\, which has been in operation since 1902.  WCOF is dedicated to uniting woman of all ages for community service\, supporting charitable organizations\, fostering friendship\, and empowering women through learning about the community around them. For info about The Woman's Club of Fullerton\, please visit: http://wcof.club/
X-ALT-DESC;FMTTYPE=text/html:<p>On Saturday\, May 11 from 10:30 a.m. to 2 p.m.\,&nbsp\;at the Christian Life Center in Fullerton\,&nbsp\;Women&rsquo\;s Club of Fullerton (WCOF) is hosting Bunco Boogie. Tickets are on sale now for $30 per person\, or $50 for two people. Proceeds benefit Joya Scholars\, WCOF&rsquo\;s Charity of the Year.</p>\n\n<p>In addition to a seat at the Bunco table for a chance to win prizes\, admission to the event will get you a superfly brunch\, including dessert and non-alcoholic beverages. Vegetarian options are available upon request\, as well as champagne mimosas for purchase.</p>\n\n<p>Guests can also participate in the Pick-a-Prize drawing\, and bid on silent auction items. Sponsorships are available from $100 to $1\,000. Tickets are available at&nbsp\;<a href="http://wcof.club/bunco-boogie" target="_blank">wcof.club/bunco-boogie</a>\, by email at&nbsp\;<a href="mailto:WaysAndMeans@wcof.club">WaysAndMeans@wcof.club</a>\, by phone at 714-925-3430\, by check made payable to WCOF and mailed to PO Box 6054 Fullerton\, CA 92834\, or at the door on the day of the event.<br />\n<br />\nThe Women&#39\;s Club of Fullerton is a 501c3 membership organization affiliated with the Federation of Women&#39\;s Clubs\, which has been in operation since 1902.&nbsp\; WCOF is dedicated to uniting woman of all ages for community service\, supporting charitable organizations\, fostering friendship\, and empowering women through learning about the community around them. For info about The Woman&rsquo\;s Club of Fullerton\, please visit:&nbsp\;<a href="http://wcof.club/">http://wcof.club/</a><br />\n&nbsp\;</p>\n
LOCATION:The Christian Life Center 404 W Wilshire Ave. Fullerton\, CA 92832
UID:e.887.23122
SEQUENCE:3
DTSTAMP:20260422T055032Z
URL:https://business.nocchamber.com/events/details/woman-s-club-of-fullerton-bunco-boogie-05-11-2019-23122
END:VEVENT

END:VCALENDAR
