BEGIN:VCALENDAR
VERSION:2.0
PRODID:-//ChamberMaster//Event Calendar 2.0//EN
METHOD:PUBLISH
X-PUBLISHED-TTL:P3D
REFRESH-INTERVAL:P3D
CALSCALE:GREGORIAN
BEGIN:VEVENT
DTSTART:20191003T173000Z
DTEND:20191003T183000Z
X-MICROSOFT-CDO-ALLDAYEVENT:FALSE
SUMMARY:Wine & Design Orange County Ribbon Cutting
DESCRIPTION:Join us for the official grand opening and ribbon cutting ceremony to celebrate the opening of Wine & Design Orange County in the City of Stanton.
X-ALT-DESC;FMTTYPE=text/html:Join us for the official grand opening and ribbon cutting ceremony to celebrate the opening of<a href="http://www.thehairforcesalon.com/" target="_blank">&nbsp\;</a><a href="https://wineanddesign.com/locations/stantonca" target="_blank">Wine &amp\; Design Orange County</a> in the City of Stanton.&nbsp\;
LOCATION:7143 Katella Avenue Stanton\, CA 90680
UID:e.887.23693
SEQUENCE:3
DTSTAMP:20260422T001941Z
URL:https://business.nocchamber.com/events/details/wine-design-orange-county-ribbon-cutting-23693
END:VEVENT

END:VCALENDAR
