BEGIN:VCALENDAR
VERSION:2.0
PRODID:-//ChamberMaster//Event Calendar 2.0//EN
METHOD:PUBLISH
X-PUBLISHED-TTL:P3D
REFRESH-INTERVAL:P3D
CALSCALE:GREGORIAN
BEGIN:VEVENT
DTSTART:20180925T003000Z
DTEND:20180925T033000Z
X-MICROSOFT-CDO-ALLDAYEVENT:FALSE
SUMMARY:William Pereira’s Hunt Branch Library: Fullerton’s Hidden Mid Century Gem
DESCRIPTION:The Tour of the Hunt Branch Library building takes place from 5:30 - 6:30 p.m. at 201 S. Basque Ave\, Fullerton\, CA\, followed by a Presentation by Alan Hess from 7:00 p.m. - 8:30 p.m. at Pacific Drive Elementary School\, 1501 W. Valencia Dr.\, Fullerton\, CA.\n\n(a short walk from the Hunt Library)
X-ALT-DESC;FMTTYPE=text/html:<span style="font-size:14px\;"><span style="font-family:arial\;">The Tour of the Hunt Branch Library building takes place from 5:30 - 6:30 p.m. at 201 S. Basque Ave\, Fullerton\, CA\, followed by a <strong>Presentation by Alan Hess</strong> from 7:00 p.m. - 8:30 p.m. at Pacific Drive Elementary School\, 1501 W. Valencia Dr.\, Fullerton\, CA.<br />\n(a short walk from the Hunt Library)</span></span>
LOCATION:Fullerton's Hunt Branch Library (Tour) 201 S. Basque Ave. Fullerton\, CA 92833 (Tour of the Hunt Branch Library) Pacific Drive Elementary School 1501 W. Valencia Dr. Fullerton\, CA 92833 (Presentation by Alan Hess)
UID:e.887.22702
SEQUENCE:3
DTSTAMP:20260422T143011Z
URL:https://business.nocchamber.com/events/details/william-pereira-s-hunt-branch-library-fullerton-s-hidden-mid-century-gem-22702
END:VEVENT

END:VCALENDAR
