BEGIN:VCALENDAR
VERSION:2.0
PRODID:-//ChamberMaster//Event Calendar 2.0//EN
METHOD:PUBLISH
X-PUBLISHED-TTL:P3D
REFRESH-INTERVAL:P3D
CALSCALE:GREGORIAN
BEGIN:VEVENT
DTSTART:20190817T150000Z
DTEND:20190817T173000Z
X-MICROSOFT-CDO-ALLDAYEVENT:FALSE
SUMMARY:Wilderness Preserve Guided Hike
DESCRIPTION:Hosted by Orange County Transportation Authority (OCTA)\, this interpretive excursion will take place on the 151-acre Pacific Horizon Preserve\, which is adjacent to Aliso and Wood Canyons Wilderness Park and Moulton Meadows Park. OCTA's acquisition of the property allows for the area to be permanently protected and ensures the preservation of wildlife mobility as well as various sensitive species. \n\n\n\nPre-registration is required at www.preservingourlegacy.org. \n\n\n\n*Weather Permitting
X-ALT-DESC;FMTTYPE=text/html:Hosted by Orange County Transportation Authority (OCTA)\, this interpretive excursion will take place on the 151-acre Pacific Horizon Preserve\, which is adjacent to Aliso and Wood Canyons Wilderness Park and Moulton Meadows Park. OCTA&rsquo\;s acquisition of the property allows for the area to be permanently protected and ensures the preservation of wildlife mobility as well as various sensitive species.&nbsp\;<br />\n<br />\nPre-registration is required at&nbsp\;<a data-auth="NotApplicable" href="https://click.email-octa.net/?qs=4f029b4f5eac128cc9c61e6284fcf9d7e6834b0f1f8c29e2dcb355917e88a805483d9d84ff3b18ddc691ce8c2a726a02" rel="noopener noreferrer" target="_blank">www.preservingourlegacy.org</a>.&nbsp\;<br />\n<br />\n*Weather Permitting
LOCATION:Pacific Horizon Preserve Laguna Beach\, CA
UID:e.887.23666
SEQUENCE:3
DTSTAMP:20260422T015308Z
URL:https://business.nocchamber.com/events/details/wilderness-preserve-guided-hike-23666
END:VEVENT

END:VCALENDAR
