BEGIN:VCALENDAR
VERSION:2.0
PRODID:-//ChamberMaster//Event Calendar 2.0//EN
METHOD:PUBLISH
X-PUBLISHED-TTL:P3D
REFRESH-INTERVAL:P3D
CALSCALE:GREGORIAN
BEGIN:VEVENT
DTSTART;VALUE=DATE:20190717
DTEND;VALUE=DATE:20190718
TRANSP:TRANSPARENT
X-MICROSOFT-CDO-ALLDAYEVENT:TRUE
SUMMARY:Who wants to play Bingo while you grocery shop for a cause?
DESCRIPTION:Join Fullerton Grocery Outlet and play Bingo while you grocery shop for a cause. You will have three opportunities to play on Wednesday\, July 17\, between 9-10 a.m. or 12-1 p.m. or 4-5 p.m. \n\n\n\nTheir Independence from Hunger event is going on until the end of July.  If you donate $5\, you will get a $5 coupon to shop at our store at a later date.  If you prefer\, you can also round up your purchase to the nearest dollar instead.  100% of your donation goes directly back to Pathways of Hope to help end hunger. Support your local Fullerton Grocery Outlet and support a good cause.
X-ALT-DESC;FMTTYPE=text/html:Join <a href="https://groceryoutlet.com/circulars/storeid/350" target="_blank">Fullerton Grocery Outlet</a> and play Bingo while you grocery shop for a cause. You will have three opportunities to play on Wednesday\, July 17\, between 9-10 a.m. or 12-1 p.m. or 4-5 p.m.&nbsp\;<br />\n<br />\nTheir Independence from Hunger event is going on until the end of July.&nbsp\; If you donate $5\, you will <strong>get a $5 coupon</strong> to shop at our store at a later date.&nbsp\; If you prefer\, you can also round up your purchase to the nearest dollar instead.&nbsp\; 100% of your donation goes directly back to <u><strong>Pathways of Hope to help end hunger</strong></u>. Support your local Fullerton Grocery Outlet and support a good cause.
LOCATION:Fullerton Grocery Outlet 120 N. Raymond Ave. Fullerton\, CA 92831
UID:e.887.23466
SEQUENCE:3
DTSTAMP:20260422T041941Z
URL:https://business.nocchamber.com/events/details/who-wants-to-play-bingo-while-you-grocery-shop-for-a-cause-23466
END:VEVENT

END:VCALENDAR
