BEGIN:VCALENDAR
VERSION:2.0
PRODID:-//ChamberMaster//Event Calendar 2.0//EN
METHOD:PUBLISH
X-PUBLISHED-TTL:P3D
REFRESH-INTERVAL:P3D
CALSCALE:GREGORIAN
BEGIN:VEVENT
DTSTART:20170720T010000Z
DTEND:20170720T030000Z
X-MICROSOFT-CDO-ALLDAYEVENT:FALSE
SUMMARY:What You Need to Know to Build a Profitable App
DESCRIPTION:The trends are clear: More and more people are using their phones to make important decisions about where to go\, what to eat\, and how they should spend their money. Not only that\, your phone can be one of your primary sources for news\, entertainment\, and even gaming. In other words\, if you have a business you must give serious consideration to your mobile strategy or you will be left in the dust by your competitors.\n\nThat's where Dalip Jaggi comes in. He is Principal at Devise Interactive\, a strategic app development company specializing in helping companies develop a comprehensive app strategy and in the creation and deployment of apps. In this talk at the CSUF Startup Incubator (Irvine) he will meticulously go through the process that his company has used many times to bring concepts into reality.\n\n\n\nPizza and Soft Drinks will be served at this event.
X-ALT-DESC;FMTTYPE=text/html:<p>The trends are clear: More and more people are using their phones to make important decisions about where to go\, what to eat\, and how they should spend their money. Not only that\, your phone can be one of your primary sources for news\, entertainment\, and even gaming. In other words\, if you have a business you must give serious consideration to your mobile strategy or you will be left in the dust by your competitors.</p>\n\n<p>That&#39\;s where Dalip Jaggi comes in. He is Principal at&nbsp\;<a href="https://www.deviseinteractive.com/" rel="noopener noreferrer nofollow" target="_blank">Devise Interactive</a>\, a strategic app development company specializing in helping companies develop a comprehensive app strategy and in the creation and deployment of apps. In this talk at the CSUF Startup Incubator (Irvine) he will meticulously go through the process that his company has used many times to bring concepts into reality.<br />\n<br />\nPizza and Soft Drinks will be served at this event.</p>\n
LOCATION:CSUF Irvine Campus 3 Banting Room: 123/124 Irvine\, CA 92618
UID:e.887.16235
SEQUENCE:3
DTSTAMP:20260421T014924Z
URL:https://business.nocchamber.com/events/details/what-you-need-to-know-to-build-a-profitable-app-16235
END:VEVENT

END:VCALENDAR
