BEGIN:VCALENDAR
VERSION:2.0
PRODID:-//ChamberMaster//Event Calendar 2.0//EN
METHOD:PUBLISH
X-PUBLISHED-TTL:P3D
REFRESH-INTERVAL:P3D
CALSCALE:GREGORIAN
BEGIN:VEVENT
DTSTART:20170629T010000Z
DTEND:20170629T030000Z
X-MICROSOFT-CDO-ALLDAYEVENT:FALSE
SUMMARY:What Startups Need to Know about Social
DESCRIPTION:Jessica Joy Reveles invites you to learn about how harnessing the power of social media can help drive your brand and sales. Jessica will reveal her strategies for social media success and will help you learn the keys to successfully elevating your company's social status.
X-ALT-DESC;FMTTYPE=text/html:Jessica Joy Reveles invites you to learn about how harnessing the power of social media can help drive your brand and sales. Jessica will reveal her strategies for social media success and will help you learn the keys to successfully elevating your company&#39\;s social status.&nbsp\;
LOCATION:CSUF Startup Incubator 120 S Bradford Ave (Back of Building) Placentia\, CA 92870
UID:e.887.16227
SEQUENCE:3
DTSTAMP:20260421T014736Z
URL:https://business.nocchamber.com/events/details/what-startups-need-to-know-about-social-16227
END:VEVENT

END:VCALENDAR
