BEGIN:VCALENDAR
VERSION:2.0
PRODID:-//ChamberMaster//Event Calendar 2.0//EN
METHOD:PUBLISH
X-PUBLISHED-TTL:P3D
REFRESH-INTERVAL:P3D
CALSCALE:GREGORIAN
BEGIN:VEVENT
DTSTART:20190919T020000Z
DTEND:20190919T030000Z
X-MICROSOFT-CDO-ALLDAYEVENT:FALSE
SUMMARY:What's an ADU Presented by RC Smith Design Build
DESCRIPTION:Come and learn how simple it can be to add an Accessory Dwelling Unit (Granny Flat) to your property.  Thanks to changes in California State Legislation\, it is much easier to add a unit to your lot.  Help you family with housing\, create rental income and more. \n\n\n\nA Realtor\, a General Contractor and a Lender will be sharing insights on how this can be easily accomplished.  This is an opportunity you don't want to miss!  \n\n\n\nFree event!  Refreshments will be served. RSVP to ADU@RCSmithDesignBuild.com
X-ALT-DESC;FMTTYPE=text/html:Come and learn how simple it can be to add an Accessory Dwelling Unit (Granny Flat) to your property.&nbsp\; Thanks to changes in California State Legislation\, it is much easier to add a unit to your lot.&nbsp\; Help you family with housing\, create rental income and more.&nbsp\;<br />\n<br />\nA Realtor\, a General Contractor and a Lender will be sharing insights on how this can be easily accomplished.&nbsp\; This is an opportunity you don&rsquo\;t want to miss!&nbsp\;&nbsp\;<br />\n<br />\nFree event!&nbsp\; Refreshments will be served. RSVP to <span style="font-size: 10pt\; font-family: Arial\, sans-serif\; background-image: initial\; background-position: initial\; background-size: initial\; background-repeat: initial\; background-attachment: initial\; background-origin: initial\; background-clip: initial\;"><a href="mailto:ADU@RCSmithDesignBuild.com">ADU@RCSmithDesignBuild.com</a></span><br />\n<br />\n<br />\n<br />\n&nbsp\;
LOCATION:8201 E Santa Ana Canyon Rd. Anaheim\, CA 92808
UID:e.887.23689
SEQUENCE:3
DTSTAMP:20260422T002713Z
URL:https://business.nocchamber.com/events/details/what-s-an-adu-presented-by-rc-smith-design-build-23689
END:VEVENT

END:VCALENDAR
