BEGIN:VCALENDAR
VERSION:2.0
PRODID:-//ChamberMaster//Event Calendar 2.0//EN
METHOD:PUBLISH
X-PUBLISHED-TTL:P3D
REFRESH-INTERVAL:P3D
CALSCALE:GREGORIAN
BEGIN:VEVENT
DTSTART:20200804T220000Z
DTEND:20200804T230000Z
X-MICROSOFT-CDO-ALLDAYEVENT:FALSE
SUMMARY:What Every Business Owner Should Know About SEO
DESCRIPTION:Organic searches on Google yield the majority of traffic for websites\, and is a critical component of the buyer funnel.\n\nUltimately\, getting users to convert from web traffic into an engagement is the goal. \n\nConsidering the higher cost of White Hat SEO (using marketing techniques within Google's terms of service)\, it is very crucial for business owners to understand if they are ready to implement a long-term marketing strategy. \n\nIs your website ready for SEO? Are you a good candidate for search engine optimization? \n\nWith the always-changing search algorithm\, and the limited time business owners have\, it can be a challenge to stay on top of the changes that affect their online presence.\n\nKnowing the principals of SEO will help you understand the tactics being used by your competitors\, and how to measure the success of your SEO.
X-ALT-DESC;FMTTYPE=text/html:<p>Organic searches on Google yield the majority of traffic for websites\, and is a critical component of the buyer funnel.</p>\n\n<p>Ultimately\, getting users to convert from web traffic into an engagement is the goal.&nbsp\;</p>\n\n<p>Considering the higher cost of White Hat SEO (using marketing techniques within Google&#39\;s terms of service)\, it is very crucial for business owners to understand if they are ready to implement a long-term marketing strategy.&nbsp\;</p>\n\n<p>Is your website ready for SEO? Are you a good candidate for search engine optimization?&nbsp\;</p>\n\n<p>With the always-changing search algorithm\, and the limited time business owners have\, it can be a challenge to stay on top of the changes that affect their online presence.</p>\n\n<p>Knowing the principals of SEO will help you understand the tactics being used by your competitors\, and how to measure the success of your SEO.&nbsp\;</p>\n
LOCATION:Online Webinar
UID:e.887.24547
SEQUENCE:3
DTSTAMP:20260421T095604Z
URL:https://business.nocchamber.com/events/details/what-every-business-owner-should-know-about-seo-24547
END:VEVENT

END:VCALENDAR
