BEGIN:VCALENDAR
VERSION:2.0
PRODID:-//ChamberMaster//Event Calendar 2.0//EN
METHOD:PUBLISH
X-PUBLISHED-TTL:P3D
REFRESH-INTERVAL:P3D
CALSCALE:GREGORIAN
BEGIN:VEVENT
DTSTART:20200625T180000Z
DTEND:20200625T183000Z
X-MICROSOFT-CDO-ALLDAYEVENT:FALSE
SUMMARY:Webinar - Think Like an International Sales Expert.
DESCRIPTION:We invite you to get to know us better and learn about the many ways that we can help you succeed in global markets. \n\n \n\nJoin us for a free webinar where one of our U.S. Commercial Service Trade Specialists will review our services\, tools and resources to help you achieve that next export sale - and answer any questions you may have!
X-ALT-DESC;FMTTYPE=text/html:<p style="color: rgb(33\, 33\, 33)\; font-size: 12pt\; line-height: normal\; font-family: 'Times New Roman'\, serif\, serif\, EmojiFont\; margin-right: 0px\; margin-bottom: 3.75pt\; margin-left: 0px\;"><span style="font-size:14px\;"><span style="color: rgb(35\, 31\, 32)\; font-family: Arial\, sans-serif\, serif\, EmojiFont\;">We invite you to get to know us better and learn about the many ways that we can help you succeed in global markets.&nbsp\;</span></span></p>\n\n<p style="color: rgb(33\, 33\, 33)\; font-size: 12pt\; line-height: normal\; font-family: 'Times New Roman'\, serif\, serif\, EmojiFont\; margin-right: 0px\; margin-bottom: 3.75pt\; margin-left: 0px\;"><span style="font-size:14px\;"><span style="color: rgb(35\, 31\, 32)\; font-family: Arial\, sans-serif\, serif\, EmojiFont\;">&nbsp\;</span></span></p>\n\n<p style="color: rgb(33\, 33\, 33)\; font-size: 12pt\; line-height: normal\; font-family: 'Times New Roman'\, serif\, serif\, EmojiFont\; margin-right: 0px\; margin-bottom: 3.75pt\; margin-left: 0px\;"><span style="font-size:14px\;"><span style="color: rgb(35\, 31\, 32)\; font-family: Arial\, sans-serif\, serif\, EmojiFont\;">Join us for a free webinar where one of our U.S. Commercial Service Trade Specialists will review our services\, tools and resources to help you achieve that next export sale - and answer any questions you may have!</span></span></p>\n
LOCATION:Online Webinar.
UID:e.887.24436
SEQUENCE:3
DTSTAMP:20260421T131501Z
URL:https://business.nocchamber.com/events/details/webinar-think-like-an-international-sales-expert-24436
END:VEVENT

END:VCALENDAR
