BEGIN:VCALENDAR
VERSION:2.0
PRODID:-//ChamberMaster//Event Calendar 2.0//EN
METHOD:PUBLISH
X-PUBLISHED-TTL:P3D
REFRESH-INTERVAL:P3D
CALSCALE:GREGORIAN
BEGIN:VEVENT
DTSTART:20200320T210000Z
DTEND:20200320T220000Z
X-MICROSOFT-CDO-ALLDAYEVENT:FALSE
SUMMARY:Webinar: Resources for Employees of California Small Businesses Impacted by COVID-19
DESCRIPTION:As new developments continue to unfold around the spread of COVID-19\, many small business owners have questions about how closures will impact their business and employees long term.\n\n\n\nSmall Business Majority\, the Employment Development Department (EDD)\, the Orange County/Inland Empire SBDC Network and the Silicon Valley SBDC invite you to attend a statewide webinar covering updates and resources for small businesses impacted by COVID-19. Learn what information to share with your employees and about state programs that can help them during these challenging times.\n\n\n\nTopics of discussion:\n\n	How to apply for unemployment insurance work-sharing programs \n	Supplemental Nutrition Assistance Program (SNAP) eligibility\n	Healthcare updates for MediCal & Covered California\n	An overview of California's Paid Family Leave program\, which is accessible to workers affected by COVID-19\n	Funds for employees in high-impact industries across the state\n	Additional resources\, Q&A \n\n\n\nSpeakers:\n\nMike Daniel\, Regional Director\n\nOrange County / Inland Empire SBDC Network\n\n\n\nBianca Blomquist\, Northern California Outreach Manager\n\nSmall Business Majority\n\n\n\nEric Gatica\n\nStaff Services Manager\, Unemployment Insurance Branch \n\nEmployment Development Department (EDD)\n\n\n\nClick here to register for the free webinar.
X-ALT-DESC;FMTTYPE=text/html:As new developments continue&nbsp\;to unfold&nbsp\;around the spread of COVID-19\, many small business owners have questions about how&nbsp\;closures will impact their business and employees long&nbsp\;term.<br />\n<br />\nSmall Business Majority\,&nbsp\;the&nbsp\;Employment Development Department&nbsp\;(EDD)\, the&nbsp\;Orange County/Inland Empire SBDC Network&nbsp\;and the&nbsp\;Silicon Valley SBDC&nbsp\;invite you to attend a statewide webinar covering updates and resources for small businesses impacted by COVID-19. Learn what information to share with your employees and about&nbsp\;state&nbsp\;programs that&nbsp\;can help them&nbsp\;during these challenging times.<br />\n<br />\nTopics of discussion:\n<ul>\n	<li>How to apply for&nbsp\;unemployment&nbsp\;insurance work-sharing programs&nbsp\;</li>\n	<li>Supplemental Nutrition Assistance Program (SNAP)&nbsp\;eligibility</li>\n	<li>Healthcare updates for MediCal &amp\; Covered California</li>\n	<li>An overview of California&rsquo\;s Paid Family Leave program\,&nbsp\;which is accessible to workers affected by COVID-19</li>\n	<li>Funds for employees in high-impact industries across the state</li>\n	<li>Additional resources\, Q&amp\;A&nbsp\;</li>\n</ul>\n<br />\n<strong>Speakers:</strong><br />\nMike Daniel\, Regional Director<br />\nOrange County / Inland Empire SBDC Network<br />\n<br />\nBianca Blomquist\, Northern California Outreach Manager<br />\nSmall Business Majority<br />\n<br />\nEric Gatica<br />\nStaff Services Manager\,&nbsp\;Unemployment Insurance Branch&nbsp\;<br />\nEmployment Development Department (EDD)<br />\n<br />\n<a href="https://app.livestorm.co/small-business-majority/resources-for-employees-of-california-small-businesses-impacted-by-covid-19" target="_blank">Click here to register for the free webinar.</a>
LOCATION:Click here to register for the free webinar.
UID:e.887.24262
SEQUENCE:3
DTSTAMP:20260421T165309Z
URL:https://business.nocchamber.com/events/details/webinar-resources-for-employees-of-california-small-businesses-impacted-by-covid-19-24262
END:VEVENT

END:VCALENDAR
