BEGIN:VCALENDAR
VERSION:2.0
PRODID:-//ChamberMaster//Event Calendar 2.0//EN
METHOD:PUBLISH
X-PUBLISHED-TTL:P3D
REFRESH-INTERVAL:P3D
CALSCALE:GREGORIAN
BEGIN:VEVENT
DTSTART:20200623T200000Z
DTEND:20200623T220000Z
X-MICROSOFT-CDO-ALLDAYEVENT:FALSE
SUMMARY:Webinar: Regions Recover Together
DESCRIPTION:Recent events have magnified the deep inequities and injustices in our communities\, reinforcing the immediate need to bring about systemic change. As we work together to rebuild a more inclusive and sustainable California where all of our communities can prosper\, it is more important than ever to reduce the significant racial and geographic inequalities that existed before the crisis. To do this\, it is important to start by listening to and lifting up the voices in the communities and regions throughout the state.\n\n\n\nJoin CA Fwd\, a California Stewardship Network\, the California Economic Summit network\, and state and local leaders at the helm of California's local and regional recovery strategies to:\n\n	Share best practices of how regions are responding\, recovering and rebuilding in real time.\n	Learn about regional strategies for sustainable and inclusive economic planning aimed at redressing inequalities.\n	Build a stronger\, more equitable California together.
X-ALT-DESC;FMTTYPE=text/html:Recent events have magnified the deep inequities and injustices in our communities\, reinforcing the immediate need to bring about systemic change. As we work together to rebuild a more inclusive and sustainable California where all of our communities can prosper\, it is more important than ever to reduce the significant racial and geographic inequalities that existed before the crisis. To do this\, it is important to start by listening to and lifting up the voices in the communities and regions throughout the state.<br />\n<br />\nJoin CA Fwd\, a California Stewardship Network\, the California Economic Summit network\, and state and local leaders at the helm of California&#39\;s local and regional recovery strategies to:\n<ul>\n	<li><span style="font-size:12px\;">Share best practices of how regions are responding\, recovering and rebuilding in real time.</span></li>\n	<li><span style="font-size:12px\;">Learn about regional strategies for sustainable and inclusive economic planning aimed at redressing inequalities.</span></li>\n	<li><span style="font-size:12px\;">Build a stronger\, more equitable California together.</span></li>\n</ul>\n
LOCATION:Zoom
UID:e.887.24392
SEQUENCE:3
DTSTAMP:20260421T131411Z
URL:https://business.nocchamber.com/events/details/webinar-regions-recover-together-24392
END:VEVENT

END:VCALENDAR
