BEGIN:VCALENDAR
VERSION:2.0
PRODID:-//ChamberMaster//Event Calendar 2.0//EN
METHOD:PUBLISH
X-PUBLISHED-TTL:P3D
REFRESH-INTERVAL:P3D
CALSCALE:GREGORIAN
BEGIN:VEVENT
DTSTART:20200323T220000Z
DTEND:20200323T230000Z
X-MICROSOFT-CDO-ALLDAYEVENT:FALSE
SUMMARY:Webinar: Managing Current and Future Clients Worries During COVID with Nora Sheils of Rock Paper Coin
DESCRIPTION:During this time of unmatched challenges in the event industry\, it's essential to continue to educate our industry on best practices for moving forward.\n\nNora Sheils of Rock Paper Coin will talk about Managing current and Future clients' worries during COVID. Topics of discussion include responding to cancellations\, postponements\, events pushing through\, vendor communication\, and much more.\n\nJoin us in this Wedding Bossness Live Series with a bonus Q&A afterwards to be able to help you figure out how to deal with your business in our current situation.\n\nTune in and get your ticket for this free webinar.\n\n\n\nClick here to register.
X-ALT-DESC;FMTTYPE=text/html:<p font-size:="" helvetica="" letter-spacing:="" neue="">During this time of unmatched challenges in the event industry\, it&rsquo\;s essential to continue to educate our industry on best practices for moving forward.</p>\n\n<p font-size:="" helvetica="" letter-spacing:="" neue="">Nora Sheils of Rock Paper Coin will talk&nbsp\;about Managing current and Future clients&#39\; worries during COVID. Topics of discussion include&nbsp\;responding to cancellations\, postponements\, events pushing through\, vendor communication\, and much more.</p>\n\n<p font-size:="" helvetica="" letter-spacing:="" neue="">Join us in this Wedding Bossness Live Series with a bonus Q&amp\;A afterwards to be able to help you figure out how to deal with your business in our current situation.</p>\n\n<p font-size:="" helvetica="" letter-spacing:="" neue="">Tune in and get your ticket for this free webinar.<br />\n<br />\n<a href="https://www.eventbrite.com/e/managing-current-and-future-clients-worries-during-covid-with-nora-sheils-of-rock-paper-coin-registration-100676027709?utm_term=attend&amp\;invite=MTk0MjI3Mjkvc2FyYWhAbm9jY2hhbWJlci5jb20vMA%3D%3D%0A&amp\;utm_campaign=invitemodernv2&amp\;utm_source=eb_email&amp\;utm_medium=email&amp\;ref=enivte001" target="_blank">Click here to register.</a></p>\n
LOCATION:Online Webinar Click here to register.
UID:e.887.24263
SEQUENCE:3
DTSTAMP:20260421T180418Z
URL:https://business.nocchamber.com/events/details/webinar-managing-current-and-future-clients-worries-during-covid-with-nora-sheils-of-rock-paper-coin-24263
END:VEVENT

END:VCALENDAR
