BEGIN:VCALENDAR
VERSION:2.0
PRODID:-//ChamberMaster//Event Calendar 2.0//EN
METHOD:PUBLISH
X-PUBLISHED-TTL:P3D
REFRESH-INTERVAL:P3D
CALSCALE:GREGORIAN
BEGIN:VEVENT
DTSTART:20200714T170000Z
DTEND:20200714T180000Z
X-MICROSOFT-CDO-ALLDAYEVENT:FALSE
SUMMARY:Webinar- Made In USMCA
DESCRIPTION:The Consul General of Mexico in Los Angles\, Marcela Celorio\, welcomes you to join for discussion on the Mexico- partnership and the new business opportunities the USMCA bring to the region with a special focus on Los Angeles.
X-ALT-DESC;FMTTYPE=text/html:The Consul General of Mexico in Los Angles\, Marcela Celorio\, welcomes you to join for discussion on the Mexico- partnership and the new business opportunities the USMCA bring to the region with a special focus on Los Angeles.&nbsp\;
LOCATION:Online Webinar.
UID:e.887.24438
SEQUENCE:3
DTSTAMP:20260421T115734Z
URL:https://business.nocchamber.com/events/details/webinar-made-in-usmca-24438
END:VEVENT

END:VCALENDAR
