BEGIN:VCALENDAR
VERSION:2.0
PRODID:-//ChamberMaster//Event Calendar 2.0//EN
METHOD:PUBLISH
X-PUBLISHED-TTL:P3D
REFRESH-INTERVAL:P3D
CALSCALE:GREGORIAN
BEGIN:VEVENT
DTSTART:20200804T210000Z
DTEND:20200804T220000Z
X-MICROSOFT-CDO-ALLDAYEVENT:FALSE
SUMMARY:Webinar: Human Resources Compliance and Best Practices
DESCRIPTION:This seminar will offer employers a discussion on how to reduce their company's risk of fines\, penalties\, and employment-related lawsuits by providing the tools and training to identify and correct areas of non-compliance within the company's human resources function. Topics to be discussed include key compliance requirements relating to recruitment\, hiring\, employee classifications\, meal & rest periods\, timekeeping\, record keeping\, payment of wages\, leave of absences\, disciplinary actions\, and terminations. Presented by Lynn Hounsley\, Integrity HR\, Inc.
X-ALT-DESC;FMTTYPE=text/html:This seminar will offer employers a discussion on how to reduce their company&rsquo\;s risk of fines\, penalties\, and employment-related lawsuits by providing the tools and training to identify and correct areas of non-compliance within the company&rsquo\;s human resources function. Topics to be discussed include key compliance requirements relating to recruitment\, hiring\, employee classifications\, meal &amp\; rest periods\, timekeeping\, record keeping\, payment of wages\, leave of absences\, disciplinary actions\, and terminations. Presented by Lynn Hounsley\, Integrity HR\, Inc.
LOCATION:Online Webinar.
UID:e.887.24548
SEQUENCE:3
DTSTAMP:20260424T064034Z
URL:https://business.nocchamber.com/events/details/webinar-human-resources-compliance-and-best-practices-24548
END:VEVENT

END:VCALENDAR
