BEGIN:VCALENDAR
VERSION:2.0
PRODID:-//ChamberMaster//Event Calendar 2.0//EN
METHOD:PUBLISH
X-PUBLISHED-TTL:P3D
REFRESH-INTERVAL:P3D
CALSCALE:GREGORIAN
BEGIN:VEVENT
DTSTART:20190417T170000Z
DTEND:20190417T190000Z
X-MICROSOFT-CDO-ALLDAYEVENT:FALSE
SUMMARY:Webinar for Employers with Medicare Eligible Employees Is Now Available to Chamber Members
DESCRIPTION:Cost and Benefits Comparisons\n	Group Plan vs. Medicare Options\n	Medicare Primary Payer Rules for Small and Large Employers\n	Options for Funding Employees' Part B premium\n\nRSVP: To Attend 4/17 @ 10AM Webinar\, contact Jesse: Jesse@betabenefits.com or text/call 714.664.0607 Beta Foundation is a chamber member and conducts several educational seminars at no charge.
X-ALT-DESC;FMTTYPE=text/html:<ul>\n	<li>Cost and Benefits Comparisons</li>\n	<li>Group Plan vs. Medicare Options</li>\n	<li>Medicare Primary Payer Rules for Small and Large Employers</li>\n	<li>Options for Funding Employees&rsquo\; Part B premium</li>\n</ul>\nRSVP: To Attend 4/17 @ 10AM Webinar\, contact Jesse: Jesse@betabenefits.com or text/call 714.664.0607 Beta Foundation is a chamber member and conducts several educational seminars at no charge.
LOCATION:Web
UID:e.887.23117
SEQUENCE:3
DTSTAMP:20260422T081057Z
URL:https://business.nocchamber.com/events/details/webinar-for-employers-with-medicare-eligible-employees-is-now-available-to-chamber-members-23117
END:VEVENT

END:VCALENDAR
