BEGIN:VCALENDAR
VERSION:2.0
PRODID:-//ChamberMaster//Event Calendar 2.0//EN
METHOD:PUBLISH
X-PUBLISHED-TTL:P3D
REFRESH-INTERVAL:P3D
CALSCALE:GREGORIAN
BEGIN:VEVENT
DTSTART:20200623T200000Z
DTEND:20200623T220000Z
X-MICROSOFT-CDO-ALLDAYEVENT:FALSE
SUMMARY:Webinar: Capabilities Statement: Why They Are Crucial For Government Work
DESCRIPTION:A capabilities statement is a useful marketing tool. It is a succinct document that describes your company?s core strengths and capabilities\, highlighting what your company can do for potential government customers and reflecting on your past successes. A well-written capabilities statement can be distributed to potential government customers in a number of ways and can quickly answer their question of why they should buy from you\, rather than your competition.\n\n\n\nThis interactive workshop will cover:\n\n	What Is a Capability Statement?\n	Types of Capability Statements\n	Essential Elements\n	Effective Uses of Capability Statement\n	Examples?Good & Not So Good
X-ALT-DESC;FMTTYPE=text/html:<span style="font-size:12px\;">A capabilities statement is a useful marketing tool. It is a succinct document that describes your company?s core strengths and capabilities\, highlighting what your company can do for potential government customers and reflecting on your past successes. A well-written capabilities statement can be distributed to potential government customers in a number of ways and can quickly answer their question of why they should buy from you\, rather than your competition.<br />\n<br />\nThis interactive workshop will cover:</span>\n<ul>\n	<li><span style="font-size:12px\;">What Is a Capability Statement?</span></li>\n	<li><span style="font-size:12px\;">Types of Capability Statements</span></li>\n	<li><span style="font-size:12px\;">Essential Elements</span></li>\n	<li><span style="font-size:12px\;">Effective Uses of Capability Statement</span></li>\n	<li><span style="font-size:12px\;">Examples?Good &amp\; Not So Good</span></li>\n</ul>\n
LOCATION:Online
UID:e.887.24424
SEQUENCE:3
DTSTAMP:20260421T131411Z
URL:https://business.nocchamber.com/events/details/webinar-capabilities-statement-why-they-are-crucial-for-government-work-24424
END:VEVENT

END:VCALENDAR
