BEGIN:VCALENDAR
VERSION:2.0
PRODID:-//ChamberMaster//Event Calendar 2.0//EN
METHOD:PUBLISH
X-PUBLISHED-TTL:P3D
REFRESH-INTERVAL:P3D
CALSCALE:GREGORIAN
BEGIN:VEVENT
DTSTART:20200414T160000Z
DTEND:20200414T170000Z
X-MICROSOFT-CDO-ALLDAYEVENT:FALSE
SUMMARY:Webinar: 3 Part Series: Support for U.S. Exporters During Global Economic Uncertainty - Second Session
DESCRIPTION:Overview\n\nParticipants will be hear from finance experts to answer questions for extending credit to foreign buyers\, working with your banker to obtain SBA grants and loans\, and alternative financing solutions for small and medium sized companies.\n\n \nObjectives\n\nTo gain insight about financial tools available to assist US companies during COVID-19 crisis in the US and around the world.\n \n\nEvent Information\n\n\n	First Session: April 7th\, 9:00 a.m.\, Featured Speaker: Gary Mendell\, CEO\, Merdian Finance Topic: Credit Strategies for Exporters\n	Second Session: April 14th\, 9:00 a.m.\, Featured Speaker: Robert Saikali\, VP City National Bank and Reps from SBA and EX-Im Ban\n	Third Session: April 16\, 9:00 a.m.\, Featured Speaker: Ken Wengrod\, CEO\, FTC Commercial Corp Topic: Alternative Financing to Keep Your Business Afloat\n	All sessions will be recorded and will be available at the conclusion of each session.\n\nPlease read the following information carefully:\n\n\n	The U.S. Commercial Service requires event registrants to accept specific Terms and Conditions and review Product Standards.\n	Please read the Privacy Act Notice.\n	All sessions are FREE of charge.\n	Login instructions and reminders will be sent to all registered participants.\n	Participants will participate in the session using the Microsoft TEAMS platform. Instructions for TEAMS will be sent.\n	Questions or concerns about the sessions\, contact Terri Batch at Terri.Batch@trade.gov\n\nClick here to register.
X-ALT-DESC;FMTTYPE=text/html:<div><strong>Overview</strong></div>\n\n<div>Participants will be hear from finance experts to answer questions for extending credit to foreign buyers\, working with your banker to obtain SBA grants and loans\, and alternative financing solutions for small and medium sized companies.<br />\n&nbsp\;\n<div><strong>Objectives</strong></div>\n\n<div>To gain insight about financial tools available to assist US companies during COVID-19 crisis in the US and around the world.</div>\n&nbsp\;\n\n<div><strong>Event Information</strong></div>\n\n<ul>\n	<li>First Session: April 7th\, 9:00 a.m.\, Featured Speaker: Gary Mendell\, CEO\, Merdian Finance Topic: Credit Strategies for Exporters</li>\n	<li><strong>Second Session: April 14th\, 9:00 a.m.\, Featured Speaker: Robert Saikali\, VP City National Bank and Reps from SBA and EX-Im Ban</strong></li>\n	<li>Third Session: April 16\, 9:00 a.m.\, Featured Speaker: Ken Wengrod\, CEO\, FTC Commercial Corp Topic: Alternative Financing to Keep Your Business Afloat</li>\n	<li>All sessions will be recorded and will be available at the conclusion of each session.</li>\n</ul>\n<em>Please read the following information carefully:</em>\n\n<ul>\n	<li>The U.S. Commercial Service requires event registrants to accept specific Terms and Conditions and review Product Standards.</li>\n	<li>Please read the&nbsp\;<a href="https://emenuapps.ita.doc.gov/ePublic/Privacy_Act_Notice.htm" target="_blank">Privacy Act Notice</a>.</li>\n	<li>All sessions are FREE of charge.</li>\n	<li>Login instructions and reminders will be sent to all registered participants.</li>\n	<li>Participants will participate in the session using the Microsoft TEAMS platform. Instructions for TEAMS will be sent.</li>\n	<li>Questions or concerns about the sessions\, contact Terri Batch at <a href="mailto:Terri.Batch@trade.gov">Terri.Batch@trade.gov</a></li>\n</ul>\n<a href="https://emenuapps.ita.doc.gov/ePublic/event/editWebReg.do?SmartCode=0QHE" target="_blank">Click here to register.</a></div>\n
LOCATION:Webinar. Click here to register.
UID:e.887.24272
SEQUENCE:3
DTSTAMP:20260421T153535Z
URL:https://business.nocchamber.com/events/details/webinar-3-part-series-support-for-u-s-exporters-during-global-economic-uncertainty-second-session-24272
END:VEVENT

END:VCALENDAR
