BEGIN:VCALENDAR
VERSION:2.0
PRODID:-//ChamberMaster//Event Calendar 2.0//EN
METHOD:PUBLISH
X-PUBLISHED-TTL:P3D
REFRESH-INTERVAL:P3D
CALSCALE:GREGORIAN
BEGIN:VEVENT
DTSTART:20200827T180000Z
DTEND:20200827T190000Z
X-MICROSOFT-CDO-ALLDAYEVENT:FALSE
SUMMARY:Webcast On Basics of PPP Loan Forgiveness and the SBA PPP Loan Forgiveness Platform for SBA lenders
DESCRIPTION:The Federal Reserve System\, Federal Deposit Insurance Corporation (FDIC)\, Office of the Comptroller of the Currency (OCC)\, National Credit Union Administration (NCUA)\, and the Conference of State Bank Supervisors (CSBS) will host an interagency webinar on Thursday\, August 27\, 2020\, at 11:00 a.m. ET.\n\nJoin Small Business Administration (SBA) officials for an overview of the SBA Paycheck Protection Program (PPP) Loan Forgiveness Platform. This presentation is open to all SBA lenders who participated in the SBA PPP lending program. During the webinar\, SBA will:\n\n\n	Provide an overview of PPP loan forgiveness guidance\;\n	Demonstrate how to access and use the SBA PPP Loan Forgiveness Platform\; and\n	Review best practices for using the SBA PPP Loan Forgiveness Platform.\n\n\nRegistration is available at https://www.webcaster4.com/Webcast/Page/583/36742.
X-ALT-DESC;FMTTYPE=text/html:<p style="text-size-adjust: auto\; margin-bottom: 1em\; color: rgb(0\, 0\, 0)\; font-stretch: normal\; line-height: 1.5\; font-family: helvetica\;"><span style="font-family:arial\;"><span style="font-size:12px\;">The Federal Reserve System\, Federal Deposit Insurance Corporation (FDIC)\, Office of the Comptroller of the Currency (OCC)\, National Credit Union Administration (NCUA)\, and the Conference of State Bank Supervisors (CSBS) will host an interagency webinar on <strong>Thursday\, August 27\, 2020\, at 11:00 a.m. ET</strong>.</span></span></p>\n\n<p style="text-size-adjust: auto\; margin-bottom: 1em\; color: rgb(0\, 0\, 0)\; font-stretch: normal\; line-height: 1.5\; font-family: helvetica\;"><span style="font-family:arial\;"><span style="font-size:12px\;">Join Small Business Administration (SBA) officials for an overview of the SBA Paycheck Protection Program (PPP) Loan Forgiveness Platform. This presentation is open to all SBA lenders who participated in the SBA PPP lending program. During the webinar\, SBA will:</span></span></p>\n\n<ul style="caret-color: rgb(32\, 31\, 30)\; color: rgb(32\, 31\, 30)\; font-family: Arial\, Helvetica\, sans-serif\; text-size-adjust: auto\; font-stretch: normal\; line-height: 1.5\;">\n	<li style="color: rgb(0\, 0\, 0)\; font-family: helvetica\;"><span style="font-family:arial\;"><span style="font-size:12px\;">Provide an overview of PPP loan forgiveness guidance\;</span></span></li>\n	<li style="color: rgb(0\, 0\, 0)\; font-family: helvetica\;"><span style="font-family:arial\;"><span style="font-size:12px\;">Demonstrate how to access and use the SBA PPP Loan Forgiveness Platform\; and</span></span></li>\n	<li style="color: rgb(0\, 0\, 0)\; font-family: helvetica\;"><span style="font-family:arial\;"><span style="font-size:12px\;">Review best practices for using the SBA PPP Loan Forgiveness Platform.</span></span></li>\n</ul>\n\n<p style="text-size-adjust: auto\; margin-bottom: 1em\; color: rgb(0\, 0\, 0)\; font-stretch: normal\; line-height: 1.5\; font-family: helvetica\;"><span style="font-family:arial\;"><span style="font-size:12px\;">Registration is available at&nbsp\;<a data-auth="NotApplicable" href="https://lnks.gd/l/eyJhbGciOiJIUzI1NiJ9.eyJidWxsZXRpbl9saW5rX2lkIjoxMDAsInVyaSI6ImJwMjpjbGljayIsImJ1bGxldGluX2lkIjoiMjAyMDA4MjYuMjYxMjc4NzEiLCJ1cmwiOiJodHRwczovL3d3dy53ZWJjYXN0ZXI0LmNvbS9XZWJjYXN0L1BhZ2UvNTgzLzM2NzQyP3V0bV9tZWRpdW09ZW1haWwmdXRtX3NvdXJjZT1nb3ZkZWxpdmVyeSJ9.1hEBphDeCK_rQMnlEQQ2hfS81pg9e_cbYpDR3a4jSkg/s/1152121707/br/82815991991-l" rel="noopener noreferrer" style="margin: 0px\; padding: 0px\; border: 0px\; font-family: inherit\; font-size: inherit\; font-style: inherit\; font-variant-caps: inherit\; font-weight: inherit\; font-stretch: inherit\; line-height: inherit\; vertical-align: baseline\; color: rgb(0\, 125\, 188)\;" target="_blank">https://www.webcaster4.com/Webcast/Page/583/36742</a>.&nbsp\;</span></span></p>\n
LOCATION:Webinar
UID:e.887.24599
SEQUENCE:3
DTSTAMP:20260419T144827Z
URL:https://business.nocchamber.com/events/details/webcast-on-basics-of-ppp-loan-forgiveness-and-the-sba-ppp-loan-forgiveness-platform-for-sba-lenders-24599
END:VEVENT

END:VCALENDAR
