BEGIN:VCALENDAR
VERSION:2.0
PRODID:-//ChamberMaster//Event Calendar 2.0//EN
METHOD:PUBLISH
X-PUBLISHED-TTL:P3D
REFRESH-INTERVAL:P3D
CALSCALE:GREGORIAN
BEGIN:VEVENT
DTSTART:20190302T180000Z
DTEND:20190303T000000Z
X-MICROSOFT-CDO-ALLDAYEVENT:FALSE
SUMMARY:WCOF - Natural Health & Beauty Expo
DESCRIPTION:Informative Speakers\, Healthy Food\, Fun\, Prize Drawings & Shopping (over 30 vendors). Each vendor will have a prize drawing valued at $25 or more.
X-ALT-DESC;FMTTYPE=text/html:Informative Speakers\, Healthy Food\, Fun\, Prize Drawings &amp\; Shopping (over 30 vendors).&nbsp\;Each vendor will have a prize drawing valued at $25 or more.
LOCATION:Elks Lodge 1400 Elks View Ln. Fullerton\, CA 92835 MAP
UID:e.887.22999
SEQUENCE:3
DTSTAMP:20260422T091456Z
URL:https://business.nocchamber.com/events/details/wcof-natural-health-beauty-expo-22999
END:VEVENT

END:VCALENDAR
