BEGIN:VCALENDAR
VERSION:2.0
PRODID:-//ChamberMaster//Event Calendar 2.0//EN
METHOD:PUBLISH
X-PUBLISHED-TTL:P3D
REFRESH-INTERVAL:P3D
CALSCALE:GREGORIAN
BEGIN:VEVENT
DTSTART:20180429T140000Z
DTEND:20180429T190000Z
X-MICROSOFT-CDO-ALLDAYEVENT:FALSE
SUMMARY:Walk Your Way with SLDC
DESCRIPTION:Speech and Language Development Center (SLDC) is a non-profit school and therapy center serving children and young adults\, ages three months through 21 years. Based on more than 50 years of knowledge\, skill and success\, SLDC provides remediation for language/learning\, emotional/social and neurologically-based needs to students with a broad scope of diagnoses\, including Autism Spectrum Disorder.\n\n \n\nAdults and children with all abilities can participate in SLDC's Walk Your Way. Enjoy theKid's Zone\, receive an event t-shirt\, learn more at our resource fair\, walk with Snoopy\,  and enjoy a piece of Knott's Famous Boysenberry Pie! \n\n\n\nEarly bird registration is from January 2nd   March 2nd. Register now for the best rate\, click here!\n\n \n\nFundraise to earn prizes:\n\n$100   earn a walk finisher medal\n\n$250- earn 2 tickets to Knott's Berry Farm\n\n$500- earn an SLDC picnic blanket\n\n$1\,000- earn a Walk Your Way fleece jacket and access to the VIP tent at the event\n\n(teams raise $2\,500 and all members gain access to the VIP tent)\n\n \n\nAll registered walkers receive a Walk Your Way t-shirt!
X-ALT-DESC;FMTTYPE=text/html:Speech and Language Development Center (SLDC) is a non-profit school and therapy center serving children and young adults\, ages three months through 21 years. Based on more than 50 years of knowledge\, skill and success\, SLDC provides remediation for language/learning\, emotional/social and neurologically-based needs to students with a broad scope of diagnoses\, including Autism Spectrum Disorder.<br />\n&nbsp\;<br />\nAdults and children with all abilities can participate in SLDC&rsquo\;s Walk Your Way. Enjoy&nbsp\;theKid&#39\;s&nbsp\;Zone\, receive an event t-shirt\, learn more at our resource fair\, walk with Snoopy\,&nbsp\; and enjoy a piece of Knott&#39\;s Famous&nbsp\;Boysenberry Pie!&nbsp\;<br />\n<br />\nEarly bird registration is from January 2nd &ndash\; March 2nd. Register now for the best rate\, click <a href="https://sldc.salsalabs.org/walkyourway2018/index.html">here</a>!<br />\n&nbsp\;<br />\nFundraise to earn prizes:<br />\n$100 &ndash\; earn a walk finisher medal<br />\n$250- earn 2 tickets to Knott&rsquo\;s Berry Farm<br />\n$500- earn an SLDC picnic blanket<br />\n$1\,000- earn a Walk Your Way fleece jacket and access to the VIP tent at the event<br />\n(teams raise $2\,500 and all members gain access to the VIP tent)<br />\n&nbsp\;<br />\nAll registered walkers receive a Walk Your Way t-shirt!<br />\n&nbsp\;\n<h5>&nbsp\;</h5>\n
LOCATION:Knott's Berry Farm 8039 Beach Blvd Buena Park\, CA 90620
UID:e.887.17740
SEQUENCE:3
DTSTAMP:20260421T230841Z
URL:https://business.nocchamber.com/events/details/walk-your-way-with-sldc-17740
END:VEVENT

END:VCALENDAR
