BEGIN:VCALENDAR
VERSION:2.0
PRODID:-//ChamberMaster//Event Calendar 2.0//EN
METHOD:PUBLISH
X-PUBLISHED-TTL:P3D
REFRESH-INTERVAL:P3D
CALSCALE:GREGORIAN
BEGIN:VEVENT
DTSTART:20180906T150000Z
DTEND:20180906T160000Z
X-MICROSOFT-CDO-ALLDAYEVENT:FALSE
SUMMARY:Wake Up Buena Park with Mayor Virginia Vaughn
DESCRIPTION:Wake Up Buena Park is an opportunity for you to network with local business leaders and hear from Mayor Virginia Vaughn on what's happening in our community. Mayor Vaughn will be joined by Buena Park Police Department Captain Worrall and City Manager Jim Vanderpool. Join us for your morning coffee and pastry and Wake Up with us!
X-ALT-DESC;FMTTYPE=text/html:Wake Up Buena Park is an opportunity for you to network with local business leaders and hear from Mayor Virginia Vaughn on what&rsquo\;s happening in our community. Mayor Vaughn will be joined by Buena Park Police Department Captain Worrall and City Manager Jim Vanderpool. Join us for your morning coffee and pastry and Wake Up with us!
LOCATION:Stereoscope Coffee 4542 Beach Blvd. Buena Park\, CA 90621
UID:e.887.22591
SEQUENCE:3
DTSTAMP:20260422T110709Z
URL:https://business.nocchamber.com/events/details/wake-up-buena-park-with-mayor-virginia-vaughn-22591
END:VEVENT

END:VCALENDAR
