BEGIN:VCALENDAR
VERSION:2.0
PRODID:-//ChamberMaster//Event Calendar 2.0//EN
METHOD:PUBLISH
X-PUBLISHED-TTL:P3D
REFRESH-INTERVAL:P3D
CALSCALE:GREGORIAN
BEGIN:VEVENT
DTSTART:20190226T163000Z
DTEND:20190226T173000Z
X-MICROSOFT-CDO-ALLDAYEVENT:FALSE
SUMMARY:Wake Up
DESCRIPTION:Wake Up is an opportunity for you to network with local business leaders and hear about what's happening in our community.\n\n \n\nThis month\, meet Fullerton's new Director of Public Works\, Meg McWade. Director Wade will be joined by Ted White\, Director of Community Services and Mayor Protem Jennifer Fitzgerald to address community issues impacting your business including new development and infrastructure.
X-ALT-DESC;FMTTYPE=text/html:<div><em><strong>Wake Up</strong></em>&nbsp\;is an opportunity for you to network with local business leaders and hear about what&#39\;s happening in our community.</div>\n\n<div>&nbsp\;</div>\n\n<div>This month\, meet Fullerton&rsquo\;s new Director of Public Works\, <strong>Meg McWade</strong>.&nbsp\;Director Wade will be joined by <strong>Ted White</strong>\, Director of Community Services and Mayor Protem <strong>Jennifer Fitzgerald</strong> to address community issues impacting your business including new development and infrastructure.</div>\n
LOCATION:Pilgrim's Coffee House 124 Wilshire Ave. Fullerton\, CA 92832
UID:e.887.22973
SEQUENCE:3
DTSTAMP:20260422T090848Z
URL:https://business.nocchamber.com/events/details/wake-up-22973
END:VEVENT

END:VCALENDAR
