BEGIN:VCALENDAR
VERSION:2.0
PRODID:-//ChamberMaster//Event Calendar 2.0//EN
METHOD:PUBLISH
X-PUBLISHED-TTL:P3D
REFRESH-INTERVAL:P3D
CALSCALE:GREGORIAN
BEGIN:VEVENT
DTSTART:20190608T150000Z
DTEND:20190608T190000Z
X-MICROSOFT-CDO-ALLDAYEVENT:FALSE
SUMMARY:Volunteer to Beautify Your Local Buena Park Neighborhoods
DESCRIPTION:The Neighborhood Improvement Partnership Program beautifies areas of the Buena Park community in partnership with the City's Beautification-Environmental Commission. Join community volunteers on June 8\, 2019 from 8:00 a.m. - 12:00 p.m. and help Buena Park neighborhoods with a little spring cleaning.\nImprovement Projects include:\n\n\n	FREE residential curb painting\n	Painting of fire hydrants\n	Graffiti removal\n	Bulky furniture & appliance removal (no TVs or computers)\n\n\nInterested in volunteering? Call the Public Works Department at (714) 562-3655
X-ALT-DESC;FMTTYPE=text/html:The Neighborhood Improvement Partnership Program beautifies areas of the Buena Park community in partnership with the City&#39\;s Beautification-Environmental Commission. Join community volunteers on June 8\, 2019 from 8:00 a.m. - 12:00 p.m. and help Buena Park neighborhoods with a little spring cleaning.\n<p>Improvement Projects include:</p>\n\n<ul type="disc">\n	<li>FREE residential curb painting</li>\n	<li>Painting of fire hydrants</li>\n	<li>Graffiti removal</li>\n	<li>Bulky furniture &amp\; appliance removal (no TVs or computers)</li>\n</ul>\n\n<p>Interested in volunteering? Call the Public Works Department at (714) 562-3655&nbsp\;</p>\n
LOCATION:Selected neighborhoods in Buena Park including California St.\, Wyoming St.\, Arizona St.\, Indiana St. (south of Whitaker)\, 9th St.
UID:e.887.23314
SEQUENCE:3
DTSTAMP:20260422T054604Z
URL:https://business.nocchamber.com/events/details/volunteer-to-beautify-your-local-buena-park-neighborhoods-23314
END:VEVENT

END:VCALENDAR
