BEGIN:VCALENDAR
VERSION:2.0
PRODID:-//ChamberMaster//Event Calendar 2.0//EN
METHOD:PUBLISH
X-PUBLISHED-TTL:P3D
REFRESH-INTERVAL:P3D
CALSCALE:GREGORIAN
BEGIN:VEVENT
DTSTART:20170727T230000Z
DTEND:20170728T020000Z
X-MICROSOFT-CDO-ALLDAYEVENT:FALSE
SUMMARY:VIP Event - Ribbon Cutting for 24 Hour Fitness
DESCRIPTION:24 Hour Fitness is opening their doors to an incredible new club near you. Join them for a corporate preview event\, and come see how they can support your company with benefits that reach your entire team.\n\n\n\nFrom affordable monthly dues to custom activities and workshops\, 24 Hour Fitness will help you create a culture of fitness that pays off in every way. Guests are welcome.
X-ALT-DESC;FMTTYPE=text/html:24 Hour Fitness is opening&nbsp\;their doors to an incredible new club near you. Join them for&nbsp\;a corporate preview event\, and come see how they can support your company with benefits that reach your entire team.<br />\n<br />\nFrom affordable monthly dues to custom activities and workshops\, 24 Hour Fitness will help you create a culture of fitness that pays off in every way. Guests are welcome.
LOCATION:24 Hour Fitness Fullerton 130 E. Imperial Hwy. Fullerton\, CA 92831
UID:e.887.16247
SEQUENCE:3
DTSTAMP:20260421T003530Z
URL:https://business.nocchamber.com/events/details/vip-event-ribbon-cutting-for-24-hour-fitness-16247
END:VEVENT

END:VCALENDAR
