BEGIN:VCALENDAR
VERSION:2.0
PRODID:-//ChamberMaster//Event Calendar 2.0//EN
METHOD:PUBLISH
X-PUBLISHED-TTL:P3D
REFRESH-INTERVAL:P3D
CALSCALE:GREGORIAN
BEGIN:VEVENT
DTSTART:20180314T010000Z
DTEND:20180314T033000Z
X-MICROSOFT-CDO-ALLDAYEVENT:FALSE
SUMMARY:Using Google Digital Marketing Tools To Increase Sales
DESCRIPTION:Learn about the various digital marketing tools available to increase sales. \n\n \n\nA Google representative will discuss:\n\n \n\n  Adwords (Google's online advertising platform)\n\n  Google Analytics\n\n  Other free and paid tools to show you how to get your business online to reach new customers and grow your business
X-ALT-DESC;FMTTYPE=text/html:<div>Learn about the various digital marketing tools available to increase sales.&nbsp\;</div>\n\n<div>&nbsp\;</div>\n\n<div>A Google representative will discuss:</div>\n\n<div>&nbsp\;</div>\n\n<div>&bull\;<span style="white-space:pre"> </span>Adwords (Google&#39\;s online advertising platform)</div>\n\n<div>&bull\;<span style="white-space:pre"> </span>Google Analytics</div>\n\n<div>&bull\;<span style="white-space:pre"> </span>Other free and paid tools to show you how to get your business online to reach new customers and grow your business</div>\n
LOCATION:Rancho Santiago Community College District 2323 N. Broadway Suite 201 Santa Ana CA 92706
UID:e.887.18209
SEQUENCE:3
DTSTAMP:20260421T230835Z
URL:https://business.nocchamber.com/events/details/using-google-digital-marketing-tools-to-increase-sales-18209
END:VEVENT

END:VCALENDAR
