BEGIN:VCALENDAR
VERSION:2.0
PRODID:-//ChamberMaster//Event Calendar 2.0//EN
METHOD:PUBLISH
X-PUBLISHED-TTL:P3D
REFRESH-INTERVAL:P3D
CALSCALE:GREGORIAN
BEGIN:VEVENT
DTSTART:20180928T150000Z
DTEND:20180928T163000Z
X-MICROSOFT-CDO-ALLDAYEVENT:FALSE
SUMMARY:US Commercial Services & OCHCC- Breakfast with Bolivia
DESCRIPTION:Orange County Hispanic Chamber of Commere will be hosting a Breakfast with Boivia featuring Bryan Burke\, Forgien Serive Officer\, U.S. Emabassy - La Paz\, Bolivia:\n\n	Current political and economic climate in Bolivia\n	Navigating the Bolivian market\n	Bolivia's agriculture sector \n	Bolivians' appeal to American products.\n	Bolivia's non-renewable natural resources\, including the world's largest untapped lithium reserves\n	The Bolivian government desire to promote Foreign Direct Investment (FDI)
X-ALT-DESC;FMTTYPE=text/html:Orange County Hispanic Chamber of Commere will be hosting a <strong>Breakfast with Boivia</strong> featuring Bryan Burke\, Forgien Serive Officer\, U.S. Emabassy - La Paz\, Bolivia:\n<ul>\n	<li>C<span style="color:#232323\;"><span style="font-family:arial\,sans-serif\;"><span style="font-size:10.0pt\;">urrent political and economic&nbsp\;climate in Bolivia</span></span></span></li>\n	<li><span style="color:#232323\;"><span style="font-family:arial\,sans-serif\;"><span style="font-size:10.0pt\;">Navigating&nbsp\;the Bolivian market</span></span></span></li>\n	<li style="color: rgb(35\, 35\, 35)\;"><span style="font-family: arial\, sans-serif\;"><span style="font-size: 10pt\;">Bolivia&rsquo\;s agriculture sector&nbsp\;</span></span></li>\n	<li style="color:#232323\;"><span style="font-family:arial\,sans-serif\;"><span style="font-size:10.0pt\;">Bolivians&#39\; appeal to American products.</span></span></li>\n	<li style="color:#232323\;"><span style="font-family:arial\,sans-serif\;"><span style="font-size:10.0pt\;">Bolivia&#39\;s non-renewable natural resources\, including the world&rsquo\;s largest untapped lithium reserves</span></span></li>\n	<li style="color:#232323\;"><span style="font-family:arial\,sans-serif\;"><span style="font-size:10.0pt\;">The Bolivian government desire to promote Foreign Direct Investment (FDI)</span></span></li>\n</ul>\n
LOCATION:U.S. Commercial Service - Orange County 2302 Martin St.\, #315 Irvine\, CA 92612
UID:e.887.22687
SEQUENCE:3
DTSTAMP:20260422T123652Z
URL:https://business.nocchamber.com/events/details/us-commercial-services-ochcc-breakfast-with-bolivia-22687
END:VEVENT

END:VCALENDAR
