BEGIN:VCALENDAR
VERSION:2.0
PRODID:-//ChamberMaster//Event Calendar 2.0//EN
METHOD:PUBLISH
X-PUBLISHED-TTL:P3D
REFRESH-INTERVAL:P3D
CALSCALE:GREGORIAN
BEGIN:VEVENT
DTSTART:20200610T180000Z
DTEND:20200610T190000Z
X-MICROSOFT-CDO-ALLDAYEVENT:FALSE
SUMMARY:U.S. Commercial Service Webinar: Five Steps to A Digital Strategy
DESCRIPTION:Overview\n\nGlobal cross-border eCommerce sales alone total some $2 trillion annually and are expected to exceed $6 trillion by 2021. Are you ready to take advantage of growing international selling opportunities?\n\n\n\nObjectives\n\nLearn how to develop an overseas sales through five steps to a digital strategy via eCommerce.\n\n\n\nEvent Information\n\n	Due to recent current events\, businesses of all sizes are redirecting resources to meet the new demand for digitally facilitated goods and services.\n	Your business needs to compete through the online sales channels or risk losing access to global market share.\n	Learn how to more effectively meet new business demands that will impact your global competitiveness in the online sales channel.\n	This webinar will cover the five steps of a digital strategy and how to keep your ahead of the curve in a 21st century digital economy.\n\nPlease read the following information carefully:\n\n\n	The U.S. Commercial Service requires event registrants to accept specific Terms and Conditions and review Product Standards.\n	Please read the Privacy Act Notice.\n	Virtual program will be held at 2 PM Eastern / 1 PM Central / 12 PM Mountain / 11 AM Pacific on June 10\, 2020 via Webex online conference and audio call.\n	Log in details will be provided after registration.\n	Date: June 10\, 2020 Cost: Free Venue: Your Computer\n	The Net portion of the Webinar can be accessed 10 minutes prior to its scheduled start time.
X-ALT-DESC;FMTTYPE=text/html:<span style="font-size:12px\;"><strong>Overview</strong><br />\nGlobal cross-border eCommerce sales alone total some $2 trillion annually and are expected to exceed $6 trillion by 2021. Are you ready to take advantage of growing international selling opportunities?<br />\n<br />\n<strong>Objectives</strong><br />\nLearn how to develop an overseas sales through five steps to a digital strategy via eCommerce.<br />\n<br />\n<strong>Event Information</strong></span>\n<ul>\n	<li><span style="font-size:12px\;">Due to recent current events\, businesses of all sizes are redirecting resources to meet the new demand for digitally facilitated goods and services.</span></li>\n	<li><span style="font-size:12px\;">Your business needs to compete through the online sales channels or risk losing access to global market share.</span></li>\n	<li><span style="font-size:12px\;">Learn how to more effectively meet new business demands that will impact your global competitiveness in the online sales channel.</span></li>\n	<li><span style="font-size:12px\;">This webinar will cover the five steps of a digital strategy and how to keep your ahead of the curve in a 21st century digital economy.</span></li>\n</ul>\n<span style="font-size:12px\;"><em><strong>Please read the following information carefully:</strong></em></span>\n\n<ul>\n	<li><span style="font-size:12px\;">The U.S. Commercial Service requires event registrants to accept specific Terms and Conditions and review Product Standards.</span></li>\n	<li><span style="font-size:12px\;">Please read the&nbsp\;<a href="https://emenuapps.ita.doc.gov/ePublic/Privacy_Act_Notice.htm" target="_newWindow">Privacy Act Notice</a>.</span></li>\n	<li><span style="font-size:12px\;">Virtual program will be held at 2 PM Eastern / 1 PM Central / 12 PM Mountain / 11 AM Pacific on June 10\, 2020 via Webex online conference and audio call.</span></li>\n	<li><span style="font-size:12px\;">Log in details will be provided after registration.</span></li>\n	<li><span style="font-size:12px\;">Date: June 10\, 2020 Cost: Free Venue: Your Computer</span></li>\n	<li><span style="font-size:12px\;">The Net portion of the Webinar can be accessed 10 minutes prior to its scheduled start time.</span></li>\n</ul>\n
LOCATION:Online
UID:e.887.24393
SEQUENCE:3
DTSTAMP:20260421T131522Z
URL:https://business.nocchamber.com/events/details/u-s-commercial-service-webinar-five-steps-to-a-digital-strategy-24393
END:VEVENT

END:VCALENDAR
