BEGIN:VCALENDAR
VERSION:2.0
PRODID:-//ChamberMaster//Event Calendar 2.0//EN
METHOD:PUBLISH
X-PUBLISHED-TTL:P3D
REFRESH-INTERVAL:P3D
CALSCALE:GREGORIAN
BEGIN:VEVENT
DTSTART:20200617T180000Z
DTEND:20200617T190000Z
X-MICROSOFT-CDO-ALLDAYEVENT:FALSE
SUMMARY:U.S. Commercial Service Webinar: Cross Border eCommerce: Overcome Digital Roadblock
DESCRIPTION:Overview\n\nThe second installment of three part webinar series organized by the U.S. Commercial Service eCommerce Innovation Lab focuses on overcoming Digital Roadblocks. Learn how to optimize international transactions for higher cart conversion.\n\n\n\nObjectives\n\nLearn how to develop an overseas sales strategy by overcoming Digital Roadblocks via eCommerce\n\n\n\nEvent Information\n\n	Learn how to prepare for and overcome digital roadblocks\, including international tax laws and emerging regulations impacting online sales.\n	Reduce chargebacks (by up to 80%) and limit fraud losses- which is a much higher risk on international transactions- through advanced data capture.\n	Build trust with international buyers by providing cost transparency for VAT tax\, duties\, global compliance management and language/currency localization.\n	Identify the best ways to managing the user experience (UX).\n\n Please read the following information carefully:\n\n\n	The U.S. Commercial Service requires event registrants to accept specific Terms and Conditions and review Product Standards.\n	Please read the Privacy Act Notice.\n	Virtual program will be held at 2 PM Eastern / 1 PM Central / 12 PM Mountain / 11 AM Pacific on June 17\, 2020 via Webex online conference and audio call.\n	Log in details will be provided after registration.\n	Date: June 17\, 2020 Cost: $0 per Company Venue: Your Computer\n	The Net portion of the Webinar can be accessed 10 minutes prior to its scheduled start time.
X-ALT-DESC;FMTTYPE=text/html:<span style="font-size:12px\;"><strong>Overview</strong><br />\nThe second installment of three part webinar series organized by the U.S. Commercial Service eCommerce Innovation Lab focuses on overcoming Digital Roadblocks. Learn how to optimize international transactions for higher cart conversion.<br />\n<br />\n<strong>Objectives</strong><br />\nLearn how to develop an overseas sales strategy by overcoming Digital Roadblocks via eCommerce<br />\n<br />\n<strong>Event Information</strong></span>\n<ul>\n	<li><span style="font-size:12px\;">Learn how to prepare for and overcome digital roadblocks\, including international tax laws and emerging regulations impacting online sales.</span></li>\n	<li><span style="font-size:12px\;">Reduce chargebacks (by up to 80%) and limit fraud losses- which is a much higher risk on international transactions- through advanced data capture.</span></li>\n	<li><span style="font-size:12px\;">Build trust with international buyers by providing cost transparency for VAT tax\, duties\, global compliance management and language/currency localization.</span></li>\n	<li><span style="font-size:12px\;">Identify the best ways to managing the user experience (UX).</span></li>\n</ul>\n<span style="font-size:12px\;"> <em><strong>Please read the following information carefully:</strong></em></span>\n\n<ul>\n	<li><span style="font-size:12px\;">The U.S. Commercial Service requires event registrants to accept specific Terms and Conditions and review Product Standards.</span></li>\n	<li><span style="font-size:12px\;">Please read the&nbsp\;<a href="https://emenuapps.ita.doc.gov/ePublic/Privacy_Act_Notice.htm" target="_newWindow">Privacy Act Notice</a>.</span></li>\n	<li><span style="font-size:12px\;">Virtual program will be held at 2 PM Eastern / 1 PM Central / 12 PM Mountain / 11 AM Pacific on June 17\, 2020 via Webex online conference and audio call.</span></li>\n	<li><span style="font-size:12px\;">Log in details will be provided after registration.</span></li>\n	<li><span style="font-size:12px\;">Date: June 17\, 2020 Cost: $0 per Company Venue: Your Computer</span></li>\n	<li><span style="font-size:12px\;">The Net portion of the Webinar can be accessed 10 minutes prior to its scheduled start time.</span></li>\n</ul>\n
LOCATION:Online
UID:e.887.24394
SEQUENCE:3
DTSTAMP:20260421T132438Z
URL:https://business.nocchamber.com/events/details/u-s-commercial-service-webinar-cross-border-ecommerce-overcome-digital-roadblock-24394
END:VEVENT

END:VCALENDAR
