BEGIN:VCALENDAR
VERSION:2.0
PRODID:-//ChamberMaster//Event Calendar 2.0//EN
METHOD:PUBLISH
X-PUBLISHED-TTL:P3D
REFRESH-INTERVAL:P3D
CALSCALE:GREGORIAN
BEGIN:VEVENT
DTSTART:20200513T143000Z
DTEND:20200513T153000Z
X-MICROSOFT-CDO-ALLDAYEVENT:FALSE
SUMMARY:U.S. Chamber Webinar: Workshop Wednesdays
DESCRIPTION:When: Every Wednesday at 7:30 a.m.\n\n\n\nWhat: A virtual event series of audience-driven discussions designed specifically for the small business community. Workshop Wednesdays bring together experts and small business owners alike to discuss how to lean into your company's culture to engage employees through this crisis. \n\n\n\nClick here to register for the next Workshop Wednesdays event.\n\n\n\nUnable to join? The U.S. Chamber's CO? has got you covered. The recordings of previous programs are and will be available on their webpage.
X-ALT-DESC;FMTTYPE=text/html:<strong>When:</strong>&nbsp\;Every Wednesday at 7:30 a.m.<br>\n<br>\n<strong>What:</strong>&nbsp\;A virtual event series of audience-driven discussions designed specifically for the small business community.&nbsp\;<a data-auth="NotApplicable" href="https://www.uschamber.com/co/events/virtual" rel="noopener noreferrer" target="_blank" title="Workshop Wednesdays">Workshop Wednesdays</a>&nbsp\;bring&nbsp\;together experts and small business owners alike to discuss how to lean into your company's culture to engage employees through this crisis.&nbsp\;<br>\n<br>\n<a data-auth="NotApplicable" href="https://click.e.uschamberaction.com/?qs=654b20dc8631ecda1b094a2d028fea98b862775a29b2af1bd041287be8a0ddf365394a0e64e9b36ba8d91cc98aa6cbe2d98658daa4beebe8" rel="noopener noreferrer" target="_blank" title="Click here">Click here</a><a href="https://www.uschamber.com/co/events/virtual" target="_blank">&nbsp\;to register</a> for the next Workshop Wednesdays event.<br>\n<br>\nUnable to join? The U.S. Chamber's&nbsp\;CO?&nbsp\;has got you covered. The&nbsp\;recordings of previous programs are and will be available on their&nbsp\;<a data-auth="NotApplicable" href="https://www.uschamber.com/co/events/virtual" rel="noopener noreferrer" target="_blank" title="webpage">webpage</a>.
LOCATION:Online Click here to register.
UID:e.887.24319
SEQUENCE:3
DTSTAMP:20260421T144110Z
URL:https://business.nocchamber.com/events/details/u-s-chamber-webinar-workshop-wednesdays-05-13-2020-24319
END:VEVENT

END:VCALENDAR
