BEGIN:VCALENDAR
VERSION:2.0
PRODID:-//ChamberMaster//Event Calendar 2.0//EN
METHOD:PUBLISH
X-PUBLISHED-TTL:P3D
REFRESH-INTERVAL:P3D
CALSCALE:GREGORIAN
BEGIN:VEVENT
DTSTART:20200522T160000Z
DTEND:20200522T170000Z
X-MICROSOFT-CDO-ALLDAYEVENT:FALSE
SUMMARY:U.S. Chamber Webinar: National Small Business Town Hall
DESCRIPTION:When: Every Friday at 9:00 a.m.\n\n\n\nWhat: A virtual discussion to help small business owners navigate the programs that are available to them through CARES Act legislation. The National Small Business Town Hall discussions also include insights from U.S. Chamber chief policy officer Neil Bradley and Inc. editor-at-large Kimberly Weisul.\n\n\n\nClick here to register for the next National Small Business Town Hall.
X-ALT-DESC;FMTTYPE=text/html:<strong>When:</strong>&nbsp\;Every Friday at 9:00 a.m.<br>\n<br>\n<strong>What:</strong>&nbsp\;A virtual discussion to help small business owners navigate the programs that are available to them through CARES Act legislation. The&nbsp\;<a data-auth="NotApplicable" href="https://click.e.uschamberaction.com/?qs=654b20dc8631ecda97833938a53d32d98a0ca242912b609960fe29440a66928e281bf202111f4de983f3db42b62ca3bb27a92d934ebca77d" rel="noopener noreferrer" target="_blank" title="National Small Business Town Hall">National Small Business Town Hall</a>&nbsp\;discussions also include insights from&nbsp\;U.S. Chamber chief policy officer Neil Bradley and Inc. editor-at-large Kimberly Weisul.<br>\n<br>\n<a data-auth="NotApplicable" href="https://click.e.uschamberaction.com/?qs=654b20dc8631ecdac3012f6603716629d690efabe7470ffaf06c97c51861ac7444fbb774b372744c6d7c93cd97c5eb2a315389cacd14f0c5" rel="noopener noreferrer" target="_blank" title="Click here">Click here</a><a href="http://click.e.uschamberaction.com/?qs=654b20dc8631ecdac3012f6603716629d690efabe7470ffaf06c97c51861ac7444fbb774b372744c6d7c93cd97c5eb2a315389cacd14f0c5">&nbsp\;to register</a> for the next National Small Business Town Hall.
LOCATION:Online Click here to register
UID:e.887.24341
SEQUENCE:3
DTSTAMP:20260421T143728Z
URL:https://business.nocchamber.com/events/details/u-s-chamber-webinar-national-small-business-town-hall-05-22-2020-24341
END:VEVENT

END:VCALENDAR
