BEGIN:VCALENDAR
VERSION:2.0
PRODID:-//ChamberMaster//Event Calendar 2.0//EN
METHOD:PUBLISH
X-PUBLISHED-TTL:P3D
REFRESH-INTERVAL:P3D
CALSCALE:GREGORIAN
BEGIN:VEVENT
DTSTART:20190827T170000Z
DTEND:20190827T180000Z
X-MICROSOFT-CDO-ALLDAYEVENT:FALSE
SUMMARY:U.S.-Brazil Trade Facilitation Webinar Series
DESCRIPTION:This Webinar Series will cover topics related to the Brazilian foreign trade system\, customs routines\, duties and taxes scenery\, and documentation requirements.\n\n	Learn why products may get stuck at Brazilian Customs and learn how to try to prevent that from happening.\n	Learn what you should do in case you find yourself in a dispute with customs in Brazil.\n	Licenses and certifications in Brazil. Tips on the best paths to obtain them\, pre-shipment requirements\, and learn about government responsible for them.
X-ALT-DESC;FMTTYPE=text/html:This Webinar Series will cover topics related to the Brazilian foreign trade system\, customs routines\, duties and taxes scenery\, and documentation requirements.\n<ul>\n	<li>Learn why products may get stuck at Brazilian Customs and learn how to try to prevent that from happening.</li>\n	<li>Learn what you should do in case you find yourself in a dispute with customs in Brazil.</li>\n	<li>Licenses and certifications in Brazil. Tips on the best paths to obtain them\, pre-shipment requirements\, and learn about government responsible for them.</li>\n</ul>\n
LOCATION:
UID:e.887.23595
SEQUENCE:3
DTSTAMP:20260422T015415Z
URL:https://business.nocchamber.com/events/details/u-s-brazil-trade-facilitation-webinar-series-23595
END:VEVENT

END:VCALENDAR
